BEGIN:VCALENDAR
VERSION:2.0
PRODID:-//archive.cryptologicfoundation.org//NONSGML kigkonsult.se iCalcrea
 tor 2.30.10//
CALSCALE:GREGORIAN
METHOD:PUBLISH
UID:ee9b1ab5-7b46-44b4-8166-a288a5108609
X-WR-CALDESC:On this date in 1943\, Project BEECHNUT\, a special US/UK cryp
 tanalytic activity\, was established.\n\nFor more info\, view the online N
 SA publication\, 'History of U.S. Communications Intelligence during World
  War II: Policy and Administration\,' by Robert L. Benson. See link below.
X-WR-RELCALID:283eea98744726a35da8fc99a06fd7e4
X-WR-TIMEZONE:America/New_York
BEGIN:VTIMEZONE
TZID:America/New_York
BEGIN:STANDARD
TZNAME:EST
DTSTART:20271107T020000
TZOFFSETFROM:-0400
TZOFFSETTO:-0500
RDATE:20281105T020000
RDATE:20291104T020000
END:STANDARD
BEGIN:DAYLIGHT
TZNAME:EDT
DTSTART:20280312T020000
TZOFFSETFROM:-0500
TZOFFSETTO:-0400
RDATE:20290311T020000
END:DAYLIGHT
END:VTIMEZONE
BEGIN:VEVENT
UID:dddbac78-7269-42fd-b966-ef8954296488
DTSTAMP:20260426T003556Z
DESCRIPTION:On this date in 1943\, Project BEECHNUT\, a special US/UK crypt
 analytic activity\, was established.\n\nFor more info\, view the online NS
 A publication\, 'History of U.S. Communications Intelligence during World 
 War II: Policy and Administration\,' by Robert L. Benson. See link below.
DTSTART;TZID=America/New_York:20280709T000000
DTEND;TZID=America/New_York:20280709T235900
LOCATION:
SUMMARY:1943: Project BEECHNUT established.
END:VEVENT
END:VCALENDAR
