BEGIN:VCALENDAR
VERSION:2.0
PRODID:-//archive.cryptologicfoundation.org//NONSGML kigkonsult.se iCalcrea
 tor 2.30.10//
CALSCALE:GREGORIAN
METHOD:PUBLISH
UID:9e69f142-5e1e-4ba3-8ff0-a06651d94634
X-WR-CALDESC:9 July 1957: First public acknowledgment of NSA.
X-WR-RELCALID:015c82eace0e84a87dd552ad2796a196
X-WR-TIMEZONE:America/New_York
BEGIN:VTIMEZONE
TZID:America/New_York
BEGIN:STANDARD
TZNAME:EST
DTSTART:20271107T020000
TZOFFSETFROM:-0400
TZOFFSETTO:-0500
RDATE:20281105T020000
RDATE:20291104T020000
END:STANDARD
BEGIN:DAYLIGHT
TZNAME:EDT
DTSTART:20280312T020000
TZOFFSETFROM:-0500
TZOFFSETTO:-0400
RDATE:20290311T020000
END:DAYLIGHT
END:VTIMEZONE
BEGIN:VEVENT
UID:cbd17820-62d6-4ef7-95b5-2959ca126bb5
DTSTAMP:20260426T004709Z
DESCRIPTION:9 July 1957: First public acknowledgment of NSA.
DTSTART;TZID=America/New_York:20280709T000000
DTEND;TZID=America/New_York:20280709T235900
LOCATION:
SUMMARY:1957: First public acknowledgment of NSA
END:VEVENT
END:VCALENDAR
