BEGIN:VCALENDAR
VERSION:2.0
PRODID:-//archive.cryptologicfoundation.org//NONSGML kigkonsult.se iCalcrea
 tor 2.30.10//
CALSCALE:GREGORIAN
METHOD:PUBLISH
UID:2e03b480-9e00-45e4-8168-f6c5ba38255f
X-WR-CALDESC:On 11 July 1865\, the first US patent was granted for a cipher
  device to Signal Corps Sergeant Edwin H. Hawley\, for multiple alphabetic
  device which was a fan-like set of 26 wooden tablets\, each with a differ
 ent ciphertext alphabet on it\, designed for use with a keyword. <i>Info p
 er David Kahn's book\, 'The Codebreakers.'</i>
X-WR-RELCALID:eea1772e86ce1696d150b3a99864d22e
X-WR-TIMEZONE:America/New_York
BEGIN:VTIMEZONE
TZID:America/New_York
BEGIN:STANDARD
TZNAME:EST
DTSTART:20271107T020000
TZOFFSETFROM:-0400
TZOFFSETTO:-0500
RDATE:20281105T020000
RDATE:20291104T020000
END:STANDARD
BEGIN:DAYLIGHT
TZNAME:EDT
DTSTART:20280312T020000
TZOFFSETFROM:-0500
TZOFFSETTO:-0400
RDATE:20290311T020000
END:DAYLIGHT
END:VTIMEZONE
BEGIN:VEVENT
UID:a734e7c4-0778-456f-af4b-75aedf62d1f6
DTSTAMP:20260426T005256Z
DESCRIPTION:On 11 July 1865\, the first US patent was granted for a cipher 
 device to Signal Corps Sergeant Edwin H. Hawley\, for multiple alphabetic 
 device which was a fan-like set of 26 wooden tablets\, each with a differe
 nt ciphertext alphabet on it\, designed for use with a keyword. <i>Info pe
 r David Kahn's book\, 'The Codebreakers.'</i>
DTSTART;TZID=America/New_York:20280711T000000
DTEND;TZID=America/New_York:20280711T235900
LOCATION:
SUMMARY:1865: First US patent for cipher device to Edwin H. Hawley
END:VEVENT
END:VCALENDAR
