BEGIN:VCALENDAR
VERSION:2.0
PRODID:-//archive.cryptologicfoundation.org//NONSGML kigkonsult.se iCalcrea
 tor 2.30.10//
CALSCALE:GREGORIAN
METHOD:PUBLISH
UID:15a810b6-2d4b-461a-b9cb-dfdb8a5fab6a
X-WR-CALDESC:12 July 1918 - William Friedman (then a First Lieutenant) repo
 rted to AEF G2A6 Chaumont\, France. G2A26 was the Radio Intelligence Secti
 on of Military Intelligence and was primarily charged with code and cipher
  cryptanalysis.\n\nLearn about the career of William F. Friedman by search
 ing the NSA's Online Collection of Historical Papers related to William Fr
 iedman. See the link below.
X-WR-RELCALID:33e4fdf14fea258e71bc2fcd5fff3f34
X-WR-TIMEZONE:America/New_York
BEGIN:VTIMEZONE
TZID:America/New_York
BEGIN:STANDARD
TZNAME:EST
DTSTART:20271107T020000
TZOFFSETFROM:-0400
TZOFFSETTO:-0500
RDATE:20281105T020000
RDATE:20291104T020000
END:STANDARD
BEGIN:DAYLIGHT
TZNAME:EDT
DTSTART:20280312T020000
TZOFFSETFROM:-0500
TZOFFSETTO:-0400
RDATE:20290311T020000
END:DAYLIGHT
END:VTIMEZONE
BEGIN:VEVENT
UID:3f2561b9-3429-42ba-87ec-7916581378a8
DTSTAMP:20260426T005521Z
DESCRIPTION:12 July 1918 - William Friedman (then a First Lieutenant) repor
 ted to AEF G2A6 Chaumont\, France. G2A26 was the Radio Intelligence Sectio
 n of Military Intelligence and was primarily charged with code and cipher 
 cryptanalysis.\n\nLearn about the career of William F. Friedman by searchi
 ng the NSA's Online Collection of Historical Papers related to William Fri
 edman. See the link below.
DTSTART;TZID=America/New_York:20280712T000000
DTEND;TZID=America/New_York:20280712T235900
LOCATION:
SUMMARY:1918: William Friedman reports to AEF G2A6 Chaumont\, France
END:VEVENT
END:VCALENDAR
