BEGIN:VCALENDAR
VERSION:2.0
PRODID:-//archive.cryptologicfoundation.org//NONSGML kigkonsult.se iCalcrea
 tor 2.30.10//
CALSCALE:GREGORIAN
METHOD:PUBLISH
UID:75483ae3-bf1f-4858-bfc1-d942ba4aef63
X-WR-CALDESC:In  July 1993 the National Cryptologic Museum was first opened
  to NSA employees and their families\, and to other members of the intelli
 gence community. Although this opening was a bit quiet\, the initial month
 s were used to fine-tune exhibits and to get used to giving tours and answ
 ering questions. The public opening in December 1993 received great media 
 interest and attendance boomed! \n\nLearn much more about the history of t
 he Museum via the link below.\n\n<i>Photo is of the main exhibit room as i
 t appeared in July 1993 - courtesy of former curator Jack Ingram.</i>
X-WR-RELCALID:82f94ab1aca5a2376b3ff4daeddc4de0
X-WR-TIMEZONE:America/New_York
BEGIN:VTIMEZONE
TZID:America/New_York
BEGIN:STANDARD
TZNAME:EST
DTSTART:20271107T020000
TZOFFSETFROM:-0400
TZOFFSETTO:-0500
RDATE:20281105T020000
RDATE:20291104T020000
END:STANDARD
BEGIN:DAYLIGHT
TZNAME:EDT
DTSTART:20280312T020000
TZOFFSETFROM:-0500
TZOFFSETTO:-0400
RDATE:20290311T020000
END:DAYLIGHT
END:VTIMEZONE
BEGIN:VEVENT
UID:2faa8b31-dcda-454b-810a-649566533b95
DTSTAMP:20260426T010332Z
DESCRIPTION:In  July 1993 the National Cryptologic Museum was first opened 
 to NSA employees and their families\, and to other members of the intellig
 ence community. Although this opening was a bit quiet\, the initial months
  were used to fine-tune exhibits and to get used to giving tours and answe
 ring questions. The public opening in December 1993 received great media i
 nterest and attendance boomed! \n\nLearn much more about the history of th
 e Museum via the link below.\n\n<i>Photo is of the main exhibit room as it
  appeared in July 1993 - courtesy of former curator Jack Ingram.</i>
DTSTART;TZID=America/New_York:20280713T060000
DTEND;TZID=America/New_York:20280713T060001
LOCATION:
SUMMARY:1993: National Cryptologic Museum opened to NSA/CSS personnel\, the
 ir families\, & to other members of Intelligence Community.
END:VEVENT
END:VCALENDAR
