BEGIN:VCALENDAR
VERSION:2.0
PRODID:-//archive.cryptologicfoundation.org//NONSGML kigkonsult.se iCalcrea
 tor 2.30.10//
CALSCALE:GREGORIAN
METHOD:PUBLISH
UID:0f74fbd9-d8a1-428f-859c-03eafcb04990
X-WR-CALDESC:15 July 1951: The U.S. State Department established a liaison 
 unit at Arlington Hall.
X-WR-RELCALID:35ebea47f49b3b4a3bec756791b9cfcd
X-WR-TIMEZONE:America/New_York
BEGIN:VTIMEZONE
TZID:America/New_York
BEGIN:STANDARD
TZNAME:EST
DTSTART:20271107T020000
TZOFFSETFROM:-0400
TZOFFSETTO:-0500
RDATE:20281105T020000
RDATE:20291104T020000
END:STANDARD
BEGIN:DAYLIGHT
TZNAME:EDT
DTSTART:20280312T020000
TZOFFSETFROM:-0500
TZOFFSETTO:-0400
RDATE:20290311T020000
END:DAYLIGHT
END:VTIMEZONE
BEGIN:VEVENT
UID:baf902ce-9f6b-48dc-bc8e-035b57ac563a
DTSTAMP:20260426T005847Z
DESCRIPTION:15 July 1951: The U.S. State Department established a liaison u
 nit at Arlington Hall.
DTSTART;TZID=America/New_York:20280715T000000
DTEND;TZID=America/New_York:20280715T235900
LOCATION:
SUMMARY:1951: State Department established liaison unit at Arlington Hall.
END:VEVENT
END:VCALENDAR
