BEGIN:VCALENDAR
VERSION:2.0
PRODID:-//archive.cryptologicfoundation.org//NONSGML kigkonsult.se iCalcrea
 tor 2.30.10//
CALSCALE:GREGORIAN
METHOD:PUBLISH
UID:36d736f4-3f9d-4b5b-ad15-bc801251dc2c
X-WR-CALDESC:On 15 July 1949\, RADM Earl E. Stone\, USN\, was named the fir
 st director of the AFSA. The mission of the AFSA was to try and coordinate
  SIGINT operations by the three armed services. AFSA was created in May 19
 49 and was the immediate predecessor of the National Security Agency. As t
 he first director\, Stone presided over the initial and stormy U.S. govern
 ment attempts to centralize this country's cryptologic efforts.\n\nLearn m
 ore about RADM Earl E. Stone\, USN\, via the link below.
X-WR-RELCALID:77cb0c079a70c8cf7243c777556dbb14
X-WR-TIMEZONE:America/New_York
BEGIN:VTIMEZONE
TZID:America/New_York
BEGIN:STANDARD
TZNAME:EST
DTSTART:20271107T020000
TZOFFSETFROM:-0400
TZOFFSETTO:-0500
RDATE:20281105T020000
RDATE:20291104T020000
END:STANDARD
BEGIN:DAYLIGHT
TZNAME:EDT
DTSTART:20280312T020000
TZOFFSETFROM:-0500
TZOFFSETTO:-0400
RDATE:20290311T020000
END:DAYLIGHT
END:VTIMEZONE
BEGIN:VEVENT
UID:489c5842-0d44-4364-b39d-82b2695006ea
DTSTAMP:20260426T005658Z
DESCRIPTION:On 15 July 1949\, RADM Earl E. Stone\, USN\, was named the firs
 t director of the AFSA. The mission of the AFSA was to try and coordinate 
 SIGINT operations by the three armed services. AFSA was created in May 194
 9 and was the immediate predecessor of the National Security Agency. As th
 e first director\, Stone presided over the initial and stormy U.S. governm
 ent attempts to centralize this country's cryptologic efforts.\n\nLearn mo
 re about RADM Earl E. Stone\, USN\, via the link below.
DTSTART;TZID=America/New_York:20280715T060000
DTEND;TZID=America/New_York:20280715T060001
LOCATION:
SUMMARY:1949: AFSA formally activated\, RADM Earl E. Stone\, USN\, named di
 rector.
END:VEVENT
END:VCALENDAR
