BEGIN:VCALENDAR
VERSION:2.0
PRODID:-//archive.cryptologicfoundation.org//NONSGML kigkonsult.se iCalcrea
 tor 2.30.10//
CALSCALE:GREGORIAN
METHOD:PUBLISH
UID:8ce09425-9160-443d-9e0e-8314b10f41a5
X-WR-CALDESC:17 July 1586: Mary\, Queen of Scots\, sent a treasonous respon
 se to the Babington Letter. Pictured here is the cipher code used by Mary\
 , Queen of Scots - image via Wikipedia. On 8 February 1587\, she was execu
 ted for treason\, as a result of a solution of a cryptosystem she was usin
 g in a conspiracy to assassinate Queen Elizabeth (Babington Plot).
X-WR-RELCALID:0db0a3f2456fd7623bd5fd6c875372f8
X-WR-TIMEZONE:America/New_York
BEGIN:VTIMEZONE
TZID:America/New_York
BEGIN:STANDARD
TZNAME:EST
DTSTART:20271107T020000
TZOFFSETFROM:-0400
TZOFFSETTO:-0500
RDATE:20281105T020000
RDATE:20291104T020000
END:STANDARD
BEGIN:DAYLIGHT
TZNAME:EDT
DTSTART:20280312T020000
TZOFFSETFROM:-0500
TZOFFSETTO:-0400
RDATE:20290311T020000
END:DAYLIGHT
END:VTIMEZONE
BEGIN:VEVENT
UID:df236ff8-7f5b-4694-b58d-b1545ee4634a
DTSTAMP:20260426T010634Z
DESCRIPTION:17 July 1586: Mary\, Queen of Scots\, sent a treasonous respons
 e to the Babington Letter. Pictured here is the cipher code used by Mary\,
  Queen of Scots - image via Wikipedia. On 8 February 1587\, she was execut
 ed for treason\, as a result of a solution of a cryptosystem she was using
  in a conspiracy to assassinate Queen Elizabeth (Babington Plot).
DTSTART;TZID=America/New_York:20280717T000000
DTEND;TZID=America/New_York:20280717T235900
LOCATION:
SUMMARY:1586: Mary\, Queen of Scots\, sent treasonous coded response to the
  Babington Letter.
END:VEVENT
END:VCALENDAR
