BEGIN:VCALENDAR
VERSION:2.0
PRODID:-//archive.cryptologicfoundation.org//NONSGML kigkonsult.se iCalcrea
 tor 2.30.10//
CALSCALE:GREGORIAN
METHOD:PUBLISH
UID:7184f645-9d18-4acd-a512-943fa3aa1eab
X-WR-CALDESC:22 July 2004: 9/11 Commission Report was released.\n\nThe Nati
 onal Commission on Terrorist Attacks Upon the United States (also known as
  the 9-11 Commission)\, an independent\, bipartisan commission created by 
 congressional legislation and the signature of President George W. Bush in
  late 2002\, was chartered to prepare a full and complete account of the c
 ircumstances surrounding the September 11\, 2001 terrorist attacks\, inclu
 ding preparedness for and the immediate response to the attacks. The Commi
 ssion is also mandated to provide recommendations designed to guard agains
 t future attacks.\n\nOn July 22\, 2004 the Commission released its public 
 report. Get more information and download a copy of the report via the lin
 k below.
X-WR-RELCALID:f6a6f7e1d73d5b2ff1f465b214951c00
X-WR-TIMEZONE:America/New_York
BEGIN:VTIMEZONE
TZID:America/New_York
BEGIN:STANDARD
TZNAME:EST
DTSTART:20271107T020000
TZOFFSETFROM:-0400
TZOFFSETTO:-0500
RDATE:20281105T020000
RDATE:20291104T020000
END:STANDARD
BEGIN:DAYLIGHT
TZNAME:EDT
DTSTART:20280312T020000
TZOFFSETFROM:-0500
TZOFFSETTO:-0400
RDATE:20290311T020000
END:DAYLIGHT
END:VTIMEZONE
BEGIN:VEVENT
UID:9bf4b301-e6b8-4595-be4f-103ee2f59c85
DTSTAMP:20260426T005826Z
DESCRIPTION:22 July 2004: 9/11 Commission Report was released.\n\nThe Natio
 nal Commission on Terrorist Attacks Upon the United States (also known as 
 the 9-11 Commission)\, an independent\, bipartisan commission created by c
 ongressional legislation and the signature of President George W. Bush in 
 late 2002\, was chartered to prepare a full and complete account of the ci
 rcumstances surrounding the September 11\, 2001 terrorist attacks\, includ
 ing preparedness for and the immediate response to the attacks. The Commis
 sion is also mandated to provide recommendations designed to guard against
  future attacks.\n\nOn July 22\, 2004 the Commission released its public r
 eport. Get more information and download a copy of the report via the link
  below.
DTSTART;TZID=America/New_York:20280722T000000
DTEND;TZID=America/New_York:20280722T235900
LOCATION:
SUMMARY:2004: 9/11 Commission Report Released.
END:VEVENT
END:VCALENDAR
