BEGIN:VCALENDAR
VERSION:2.0
PRODID:-//archive.cryptologicfoundation.org//NONSGML kigkonsult.se iCalcrea
 tor 2.30.10//
CALSCALE:GREGORIAN
METHOD:PUBLISH
UID:e4b872f4-3795-47ab-a021-ed36d9e4f262
X-WR-CALDESC:28 July 1916: The US Navy Code and Signal Section was establis
 hed.
X-WR-RELCALID:a38700821507b8b5479f288f78048430
X-WR-TIMEZONE:America/New_York
BEGIN:VTIMEZONE
TZID:America/New_York
BEGIN:STANDARD
TZNAME:EST
DTSTART:20271107T020000
TZOFFSETFROM:-0400
TZOFFSETTO:-0500
RDATE:20281105T020000
RDATE:20291104T020000
END:STANDARD
BEGIN:DAYLIGHT
TZNAME:EDT
DTSTART:20280312T020000
TZOFFSETFROM:-0500
TZOFFSETTO:-0400
RDATE:20290311T020000
END:DAYLIGHT
END:VTIMEZONE
BEGIN:VEVENT
UID:207788a0-a933-4319-b43e-aa0d74539fc2
DTSTAMP:20260426T004617Z
DESCRIPTION:28 July 1916: The US Navy Code and Signal Section was establish
 ed.
DTSTART;TZID=America/New_York:20280728T000000
DTEND;TZID=America/New_York:20280728T235900
LOCATION:
SUMMARY:1916: U.S. Navy Code & Signal Section was established.
END:VEVENT
END:VCALENDAR
