BEGIN:VCALENDAR
VERSION:2.0
PRODID:-//archive.cryptologicfoundation.org//NONSGML kigkonsult.se iCalcrea
 tor 2.30.10//
CALSCALE:GREGORIAN
METHOD:PUBLISH
UID:d768151e-4e12-4899-89fc-c02fb6c65f8f
X-WR-CALDESC:31 July 1918: The 'Wabash' Field Code was issued.\n\nWabash is
  one of a half dozen of the 'River' codes\, and another eight codes in the
  'Lake' series followed shortly after. These 14 codes were produced over f
 ive months. All copies were serialized and accounted for with no copies lo
 st\, indicating a secure chain of custody. \n\nTo learn more\, please clic
 k on the link before for an NSA.gov PDF.
X-WR-RELCALID:f21356bd98db4fcdb338da633ac508de
X-WR-TIMEZONE:America/New_York
BEGIN:VTIMEZONE
TZID:America/New_York
BEGIN:STANDARD
TZNAME:EST
DTSTART:20271107T020000
TZOFFSETFROM:-0400
TZOFFSETTO:-0500
RDATE:20281105T020000
RDATE:20291104T020000
END:STANDARD
BEGIN:DAYLIGHT
TZNAME:EDT
DTSTART:20280312T020000
TZOFFSETFROM:-0500
TZOFFSETTO:-0400
RDATE:20290311T020000
END:DAYLIGHT
END:VTIMEZONE
BEGIN:VEVENT
UID:cb386b26-a4b7-4bec-919f-e2dfbdfd5ee5
DTSTAMP:20260426T004450Z
DESCRIPTION:31 July 1918: The 'Wabash' Field Code was issued.\n\nWabash is 
 one of a half dozen of the 'River' codes\, and another eight codes in the 
 'Lake' series followed shortly after. These 14 codes were produced over fi
 ve months. All copies were serialized and accounted for with no copies los
 t\, indicating a secure chain of custody. \n\nTo learn more\, please click
  on the link before for an NSA.gov PDF.
DTSTART;TZID=America/New_York:20280731T000000
DTEND;TZID=America/New_York:20280731T235900
LOCATION:
SUMMARY:1918: The 'Wabash' Field Code was issued.
END:VEVENT
END:VCALENDAR
