BEGIN:VCALENDAR
VERSION:2.0
PRODID:-//archive.cryptologicfoundation.org//NONSGML kigkonsult.se iCalcrea
 tor 2.30.10//
CALSCALE:GREGORIAN
METHOD:PUBLISH
UID:2a6f396a-0903-49b8-9f5d-eb5e77199432
X-WR-CALDESC:On 3 August 1918\, the 'Mohawk' field code was issued. Learn a
 bout American Army Field Codes in a document by William Friedman via the l
 ink at the bottom of the page.\n\nTrench codes were codes used for secrecy
  by field armies in World War I. A reasonably-designed code is generally m
 ore difficult to crack than a classical cipher\, but of course suffers fro
 m the difficulty of preparing\, distributing\, and protecting codebooks. T
 he Americans adopted a series of codes named after rivers\, beginning with
  'Potomac'. They learned to print the codebooks on paper that burned easil
 y and degraded quickly after a few weeks\, when the codes would presumably
  be obsolete\, while using a font that was easy to read under trench condi
 tions.
X-WR-RELCALID:6e261901619ed083f722a18a70fd64ac
X-WR-TIMEZONE:America/New_York
BEGIN:VTIMEZONE
TZID:America/New_York
BEGIN:STANDARD
TZNAME:EST
DTSTART:20271107T020000
TZOFFSETFROM:-0400
TZOFFSETTO:-0500
RDATE:20281105T020000
RDATE:20291104T020000
END:STANDARD
BEGIN:DAYLIGHT
TZNAME:EDT
DTSTART:20280312T020000
TZOFFSETFROM:-0500
TZOFFSETTO:-0400
RDATE:20290311T020000
END:DAYLIGHT
END:VTIMEZONE
BEGIN:VEVENT
UID:2438fe6a-a2a7-4341-be02-1d6a913524fa
DTSTAMP:20260426T021531Z
DESCRIPTION:On 3 August 1918\, the 'Mohawk' field code was issued. Learn ab
 out American Army Field Codes in a document by William Friedman via the li
 nk at the bottom of the page.\n\nTrench codes were codes used for secrecy 
 by field armies in World War I. A reasonably-designed code is generally mo
 re difficult to crack than a classical cipher\, but of course suffers from
  the difficulty of preparing\, distributing\, and protecting codebooks. Th
 e Americans adopted a series of codes named after rivers\, beginning with 
 'Potomac'. They learned to print the codebooks on paper that burned easily
  and degraded quickly after a few weeks\, when the codes would presumably 
 be obsolete\, while using a font that was easy to read under trench condit
 ions.
DTSTART;TZID=America/New_York:20280803T000000
DTEND;TZID=America/New_York:20280803T235900
LOCATION:
SUMMARY:1918: 'Mohawk' Field Code was issued.
END:VEVENT
END:VCALENDAR
