BEGIN:VCALENDAR
VERSION:2.0
PRODID:-//archive.cryptologicfoundation.org//NONSGML kigkonsult.se iCalcrea
 tor 2.30.10//
CALSCALE:GREGORIAN
METHOD:PUBLISH
UID:05026f72-e79e-49f0-a41a-aed039b6a3e7
X-WR-CALDESC:Joseph Desch was an innovative engineer for the National Cash 
 Register Company (NCR).  The U.S. Navy contracted NCR in March 1942 to des
 ign and build its Bombes\, which were machines used for processing the Ger
 man navy's four-rotor Enigma-based messages.  NCR selected Joseph Desch\, 
 head of its electrical research laboratory\, to be the principal engineer 
 on the project.  The Bombes Mr. Desch designed at the NCR became a vital c
 ryptanalytic tool in the war against Germany's U-boats and an important co
 mponent of Allied victory in Europe in #WWII.  Joseph Desch died #OTD in 1
 987.  He was inducted into the NSA/CSS Hall of Honor in 2011.  The last or
 iginal four-rotor Bombe resides in the National Cryptologic Museum. \n\nCl
 ick the link below to learn more via Mr. Desch's Hall of Honor page.
X-WR-RELCALID:471984864b06963250111ebedf8b5609
X-WR-TIMEZONE:America/New_York
BEGIN:VTIMEZONE
TZID:America/New_York
BEGIN:STANDARD
TZNAME:EST
DTSTART:20271107T020000
TZOFFSETFROM:-0400
TZOFFSETTO:-0500
RDATE:20281105T020000
RDATE:20291104T020000
END:STANDARD
BEGIN:DAYLIGHT
TZNAME:EDT
DTSTART:20280312T020000
TZOFFSETFROM:-0500
TZOFFSETTO:-0400
RDATE:20290311T020000
END:DAYLIGHT
END:VTIMEZONE
BEGIN:VEVENT
UID:34d8c370-a912-4e1b-a3c0-f29b68571daa
DTSTAMP:20260426T023036Z
DESCRIPTION:Joseph Desch was an innovative engineer for the National Cash R
 egister Company (NCR).  The U.S. Navy contracted NCR in March 1942 to desi
 gn and build its Bombes\, which were machines used for processing the Germ
 an navy's four-rotor Enigma-based messages.  NCR selected Joseph Desch\, h
 ead of its electrical research laboratory\, to be the principal engineer o
 n the project.  The Bombes Mr. Desch designed at the NCR became a vital cr
 yptanalytic tool in the war against Germany's U-boats and an important com
 ponent of Allied victory in Europe in #WWII.  Joseph Desch died #OTD in 19
 87.  He was inducted into the NSA/CSS Hall of Honor in 2011.  The last ori
 ginal four-rotor Bombe resides in the National Cryptologic Museum. \n\nCli
 ck the link below to learn more via Mr. Desch's Hall of Honor page.
DTSTART;TZID=America/New_York:20280803T000000
DTEND;TZID=America/New_York:20280803T235900
LOCATION:
SUMMARY:1987: Death of Joseph Desch - innovative engineer for the National 
 Cash Register Company
END:VEVENT
END:VCALENDAR
