BEGIN:VCALENDAR
VERSION:2.0
PRODID:-//archive.cryptologicfoundation.org//NONSGML kigkonsult.se iCalcrea
 tor 2.30.10//
CALSCALE:GREGORIAN
METHOD:PUBLISH
UID:23621a9e-7285-4156-9793-2db99595a6c8
X-WR-CALDESC:On August 5\, 1925\, “Little Orphan Annie” debuted in comic st
 rip form. In 1930\, the characters were adapted for radio and appealed dir
 ectly to children. When kids joined “Radio Orphan Annie’s Secret Society\,
 ” they received a secret decoder pin. (Not a ring as frequently believed.)
  The first pin was released in 1935 and different pins were given out thro
 ugh 1940. It used a simple substitution cipher replacing letters with numb
 ers. The numbered ring was in numerical order\, but the alphabet ring was 
 always scrambled. During the radio program\, a secret message was revealed
  and the kids used the pin to decipher it. The secret messages gave previe
 ws for the next day’s episode.
X-WR-RELCALID:69db92934d13cdae80fa186f04ee261a
X-WR-TIMEZONE:America/New_York
BEGIN:VTIMEZONE
TZID:America/New_York
BEGIN:STANDARD
TZNAME:EST
DTSTART:20271107T020000
TZOFFSETFROM:-0400
TZOFFSETTO:-0500
RDATE:20281105T020000
RDATE:20291104T020000
END:STANDARD
BEGIN:DAYLIGHT
TZNAME:EDT
DTSTART:20280312T020000
TZOFFSETFROM:-0500
TZOFFSETTO:-0400
RDATE:20290311T020000
END:DAYLIGHT
END:VTIMEZONE
BEGIN:VEVENT
UID:ecf7ca99-5aae-4907-b374-72b33811c8c8
DTSTAMP:20260426T023153Z
DESCRIPTION:On August 5\, 1925\, “Little Orphan Annie” debuted in comic str
 ip form. In 1930\, the characters were adapted for radio and appealed dire
 ctly to children. When kids joined “Radio Orphan Annie’s Secret Society\,”
  they received a secret decoder pin. (Not a ring as frequently believed.) 
 The first pin was released in 1935 and different pins were given out throu
 gh 1940. It used a simple substitution cipher replacing letters with numbe
 rs. The numbered ring was in numerical order\, but the alphabet ring was a
 lways scrambled. During the radio program\, a secret message was revealed 
 and the kids used the pin to decipher it. The secret messages gave preview
 s for the next day’s episode.
DTSTART;TZID=America/New_York:20280805T000000
DTEND;TZID=America/New_York:20280805T235900
LOCATION:
SUMMARY:1925: Radio Orphan Annie Secret Society
END:VEVENT
END:VCALENDAR
