BEGIN:VCALENDAR
VERSION:2.0
PRODID:-//archive.cryptologicfoundation.org//NONSGML kigkonsult.se iCalcrea
 tor 2.30.10//
CALSCALE:GREGORIAN
METHOD:PUBLISH
UID:c5447efb-c95c-4290-b6e3-42f22266fb67
X-WR-CALDESC:9 August 1945: The U.S. dropped an atomic bomb on Nagasaki\, r
 esulting in Japan's unconditional surrender. \n\nExcerpt from History.com:
   A specially adapted B-29 bomber\, called 'Bock's Car\,' after its usual 
 commander\, Frederick Bock\, took off from Tinian Island under the command
  of Maj. Charles W. Sweeney. Nagasaki was a shipbuilding center\, the very
  industry intended for destruction. The bomb was dropped at 11:02 a.m.\, 1
 \,650 feet above the city. The explosion unleashed the equivalent force of
  22\,000 tons of TNT. The hills that surrounded the city did a better job 
 of containing the destructive force\, but the number killed is estimated a
 t anywhere between 60\,000 and 80\,000 (exact figures are impossible\, the
  blast having obliterated bodies and disintegrated records).
X-WR-RELCALID:85e3a2e1b345b9d96eae6ff93dd7efc4
X-WR-TIMEZONE:America/New_York
BEGIN:VTIMEZONE
TZID:America/New_York
BEGIN:STANDARD
TZNAME:EST
DTSTART:20271107T020000
TZOFFSETFROM:-0400
TZOFFSETTO:-0500
RDATE:20281105T020000
RDATE:20291104T020000
END:STANDARD
BEGIN:DAYLIGHT
TZNAME:EDT
DTSTART:20280312T020000
TZOFFSETFROM:-0500
TZOFFSETTO:-0400
RDATE:20290311T020000
END:DAYLIGHT
END:VTIMEZONE
BEGIN:VEVENT
UID:9fce1dd0-ae33-41a7-9327-fe67122e3d75
DTSTAMP:20260426T022311Z
DESCRIPTION:9 August 1945: The U.S. dropped an atomic bomb on Nagasaki\, re
 sulting in Japan's unconditional surrender. \n\nExcerpt from History.com: 
  A specially adapted B-29 bomber\, called 'Bock's Car\,' after its usual c
 ommander\, Frederick Bock\, took off from Tinian Island under the command 
 of Maj. Charles W. Sweeney. Nagasaki was a shipbuilding center\, the very 
 industry intended for destruction. The bomb was dropped at 11:02 a.m.\, 1\
 ,650 feet above the city. The explosion unleashed the equivalent force of 
 22\,000 tons of TNT. The hills that surrounded the city did a better job o
 f containing the destructive force\, but the number killed is estimated at
  anywhere between 60\,000 and 80\,000 (exact figures are impossible\, the 
 blast having obliterated bodies and disintegrated records).
DTSTART;TZID=America/New_York:20280809T000000
DTEND;TZID=America/New_York:20280809T235900
LOCATION:
SUMMARY:1945: Nagasaki
END:VEVENT
END:VCALENDAR
