BEGIN:VCALENDAR
VERSION:2.0
PRODID:-//archive.cryptologicfoundation.org//NONSGML kigkonsult.se iCalcrea
 tor 2.30.10//
CALSCALE:GREGORIAN
METHOD:PUBLISH
UID:579627ff-5cda-48bd-a6e9-02d0b54c8cb6
X-WR-CALDESC:11 August 1972: The last U.S. ground combat unit departed Viet
 nam. The last American combat unit was a task force from the 3d Bn\, 21st 
 Inf Regt and battery B\, 3d Bn\, 82d Field Artillery Regt which had been s
 tationed in Danang.
X-WR-RELCALID:e2d18fde5c7447b25da298103b1a61f5
X-WR-TIMEZONE:America/New_York
BEGIN:VTIMEZONE
TZID:America/New_York
BEGIN:STANDARD
TZNAME:EST
DTSTART:20271107T020000
TZOFFSETFROM:-0400
TZOFFSETTO:-0500
RDATE:20281105T020000
RDATE:20291104T020000
END:STANDARD
BEGIN:DAYLIGHT
TZNAME:EDT
DTSTART:20280312T020000
TZOFFSETFROM:-0500
TZOFFSETTO:-0400
RDATE:20290311T020000
END:DAYLIGHT
END:VTIMEZONE
BEGIN:VEVENT
UID:e722203b-a145-46e8-8bae-a4199e38a22b
DTSTAMP:20260426T023429Z
DESCRIPTION:11 August 1972: The last U.S. ground combat unit departed Vietn
 am. The last American combat unit was a task force from the 3d Bn\, 21st I
 nf Regt and battery B\, 3d Bn\, 82d Field Artillery Regt which had been st
 ationed in Danang.
DTSTART;TZID=America/New_York:20280811T000000
DTEND;TZID=America/New_York:20280811T235900
LOCATION:
SUMMARY:1972: Last U.S. Ground Combat Unit Leaves Vietnam
END:VEVENT
END:VCALENDAR
