BEGIN:VCALENDAR
VERSION:2.0
PRODID:-//archive.cryptologicfoundation.org//NONSGML kigkonsult.se iCalcrea
 tor 2.30.10//
CALSCALE:GREGORIAN
METHOD:PUBLISH
UID:2747f888-3bb8-4b5f-9703-32d83397a26f
X-WR-CALDESC:15 August 1945: Japan announced its surrender during World War
  II. Emperor Hirohito announced the news of his country's unconditional su
 rrender in World War II over a radio broadcast to the Japanese people.
X-WR-RELCALID:75747201bf9111fd7c180337f7c2c237
X-WR-TIMEZONE:America/New_York
BEGIN:VTIMEZONE
TZID:America/New_York
BEGIN:STANDARD
TZNAME:EST
DTSTART:20271107T020000
TZOFFSETFROM:-0400
TZOFFSETTO:-0500
RDATE:20281105T020000
RDATE:20291104T020000
END:STANDARD
BEGIN:DAYLIGHT
TZNAME:EDT
DTSTART:20280312T020000
TZOFFSETFROM:-0500
TZOFFSETTO:-0400
RDATE:20290311T020000
END:DAYLIGHT
END:VTIMEZONE
BEGIN:VEVENT
UID:0387a86e-7b22-4da2-bd91-bf06a92e05fd
DTSTAMP:20260426T022219Z
DESCRIPTION:15 August 1945: Japan announced its surrender during World War 
 II. Emperor Hirohito announced the news of his country's unconditional sur
 render in World War II over a radio broadcast to the Japanese people.
DTSTART;TZID=America/New_York:20280815T000000
DTEND;TZID=America/New_York:20280815T235900
LOCATION:
SUMMARY:1945: Japan Announced Surrender
END:VEVENT
END:VCALENDAR
