BEGIN:VCALENDAR
VERSION:2.0
PRODID:-//archive.cryptologicfoundation.org//NONSGML kigkonsult.se iCalcrea
 tor 2.30.10//
CALSCALE:GREGORIAN
METHOD:PUBLISH
UID:73001a6d-7fe4-4ffb-9a10-2152ad470853
X-WR-CALDESC:21 August 1846: Birthday of Étienne Bazeries\, developer of th
 e 'cylindrical cipher device.' His 'Bazeries Cylinder' was an improved ver
 sion of the Jefferson Cipher. It was later refined into the U.S. Army M-94
  cipher device. Bazeries was referred to by historian David Kahn as 'the g
 reat pragmatist of cryptology. His theoretical contributions are negligibl
 e\, but he was one of the greatest natural cryptanalysts the science has s
 een.' (Kahn\, 'The Codebreakers\, 1996)  \n\nTake a look at various cipher
 s on our Information Assurance Exhibits page - link below.
X-WR-RELCALID:5b4804eb5f20b3f2cc5bf332e0cd7684
X-WR-TIMEZONE:America/New_York
BEGIN:VTIMEZONE
TZID:America/New_York
BEGIN:STANDARD
TZNAME:EST
DTSTART:20271107T020000
TZOFFSETFROM:-0400
TZOFFSETTO:-0500
RDATE:20281105T020000
RDATE:20291104T020000
END:STANDARD
BEGIN:DAYLIGHT
TZNAME:EDT
DTSTART:20280312T020000
TZOFFSETFROM:-0500
TZOFFSETTO:-0400
RDATE:20290311T020000
END:DAYLIGHT
END:VTIMEZONE
BEGIN:VEVENT
UID:9ed6610c-961b-42a5-bef9-a23c42a874e7
DTSTAMP:20260426T022336Z
DESCRIPTION:21 August 1846: Birthday of Étienne Bazeries\, developer of the
  'cylindrical cipher device.' His 'Bazeries Cylinder' was an improved vers
 ion of the Jefferson Cipher. It was later refined into the U.S. Army M-94 
 cipher device. Bazeries was referred to by historian David Kahn as 'the gr
 eat pragmatist of cryptology. His theoretical contributions are negligible
 \, but he was one of the greatest natural cryptanalysts the science has se
 en.' (Kahn\, 'The Codebreakers\, 1996)  \n\nTake a look at various ciphers
  on our Information Assurance Exhibits page - link below.
DTSTART;TZID=America/New_York:20280821T000000
DTEND;TZID=America/New_York:20280821T235900
LOCATION:
SUMMARY:1846: Étienne Bazeries Birth Date
END:VEVENT
END:VCALENDAR
