BEGIN:VCALENDAR
VERSION:2.0
PRODID:-//archive.cryptologicfoundation.org//NONSGML kigkonsult.se iCalcrea
 tor 2.30.10//
CALSCALE:GREGORIAN
METHOD:PUBLISH
UID:2a20955b-627e-4f6f-9da2-27bd4da46036
X-WR-CALDESC:26 August 1939: Poland and Britain signed the Agreement of Mut
 ual Assistance.\n\nAt Bletchley Park\, GC&CS already has a vital insight i
 nto Enigma thanks to intelligence sharing with Poland's codebreakers. \n\n
 Learn much more via the Bletchley Park link below re: 'Hut 11A: The Bombe 
 Breakthrough.'
X-WR-RELCALID:c9fce06557e2ae5b746d821dd3b58869
X-WR-TIMEZONE:America/New_York
BEGIN:VTIMEZONE
TZID:America/New_York
BEGIN:STANDARD
TZNAME:EST
DTSTART:20271107T020000
TZOFFSETFROM:-0400
TZOFFSETTO:-0500
RDATE:20281105T020000
RDATE:20291104T020000
END:STANDARD
BEGIN:DAYLIGHT
TZNAME:EDT
DTSTART:20280312T020000
TZOFFSETFROM:-0500
TZOFFSETTO:-0400
RDATE:20290311T020000
END:DAYLIGHT
END:VTIMEZONE
BEGIN:VEVENT
UID:cf5edaba-1868-4a00-9920-b780fad4c70d
DTSTAMP:20260426T023045Z
DESCRIPTION:26 August 1939: Poland and Britain signed the Agreement of Mutu
 al Assistance.\n\nAt Bletchley Park\, GC&CS already has a vital insight in
 to Enigma thanks to intelligence sharing with Poland's codebreakers. \n\nL
 earn much more via the Bletchley Park link below re: 'Hut 11A: The Bombe B
 reakthrough.'
DTSTART;TZID=America/New_York:20280826T000000
DTEND;TZID=America/New_York:20280826T235900
LOCATION:
SUMMARY:Poland and Britain signed the Agreement of Mutual Assistance.
END:VEVENT
END:VCALENDAR
