BEGIN:VCALENDAR
VERSION:2.0
PRODID:-//archive.cryptologicfoundation.org//NONSGML kigkonsult.se iCalcrea
 tor 2.30.10//
CALSCALE:GREGORIAN
METHOD:PUBLISH
UID:3e837b97-ebd6-4754-9e99-89d2de378639
X-WR-CALDESC:29 August 1949:  The Soviets detonate their first atomic bomb.
X-WR-RELCALID:b6514a0fb48810325f9afec00e97130b
X-WR-TIMEZONE:America/New_York
BEGIN:VTIMEZONE
TZID:America/New_York
BEGIN:STANDARD
TZNAME:EST
DTSTART:20271107T020000
TZOFFSETFROM:-0400
TZOFFSETTO:-0500
RDATE:20281105T020000
RDATE:20291104T020000
END:STANDARD
BEGIN:DAYLIGHT
TZNAME:EDT
DTSTART:20280312T020000
TZOFFSETFROM:-0500
TZOFFSETTO:-0400
RDATE:20290311T020000
END:DAYLIGHT
END:VTIMEZONE
BEGIN:VEVENT
UID:b3af7257-0ca5-436c-a497-3b2dd90418b8
DTSTAMP:20260426T022458Z
DESCRIPTION:29 August 1949:  The Soviets detonate their first atomic bomb.
DTSTART;TZID=America/New_York:20280829T000000
DTEND;TZID=America/New_York:20280829T235900
LOCATION:
SUMMARY:1949: Soviets Detonate Atomic Bomb
END:VEVENT
END:VCALENDAR
