BEGIN:VCALENDAR
VERSION:2.0
PRODID:-//archive.cryptologicfoundation.org//NONSGML kigkonsult.se iCalcrea
 tor 2.30.10//
CALSCALE:GREGORIAN
METHOD:PUBLISH
UID:55f1086c-7f6f-4fb3-a0e9-26e9bc41835b
X-WR-CALDESC:31 August 1914:  Key intercepts of Russian radio traffic allow
 ed German Generals von Hindenberg and Ludendorff to encircle and crush Rus
 sian forces of Tannerberg.
X-WR-RELCALID:f6fa29703b3254d6b780531f63c6d18f
X-WR-TIMEZONE:America/New_York
BEGIN:VTIMEZONE
TZID:America/New_York
BEGIN:STANDARD
TZNAME:EST
DTSTART:20271107T020000
TZOFFSETFROM:-0400
TZOFFSETTO:-0500
RDATE:20281105T020000
RDATE:20291104T020000
END:STANDARD
BEGIN:DAYLIGHT
TZNAME:EDT
DTSTART:20280312T020000
TZOFFSETFROM:-0500
TZOFFSETTO:-0400
RDATE:20290311T020000
END:DAYLIGHT
END:VTIMEZONE
BEGIN:VEVENT
UID:14c3811c-2964-46a0-9a27-8cd65e210fb5
DTSTAMP:20260426T023004Z
DESCRIPTION:31 August 1914:  Key intercepts of Russian radio traffic allowe
 d German Generals von Hindenberg and Ludendorff to encircle and crush Russ
 ian forces of Tannerberg.
DTSTART;TZID=America/New_York:20280831T000000
DTEND;TZID=America/New_York:20280831T235900
LOCATION:
SUMMARY:1914: German Intercepts of Russian Radio Traffic
END:VEVENT
END:VCALENDAR
