BEGIN:VCALENDAR
VERSION:2.0
PRODID:-//archive.cryptologicfoundation.org//NONSGML kigkonsult.se iCalcrea
 tor 2.30.10//
CALSCALE:GREGORIAN
METHOD:PUBLISH
UID:746158f9-3c3e-4140-8fb8-a603de32f1bf
X-WR-CALDESC:1945: Belligerents sign Japanese surrender aboard USS Missouri
 . \n\nPhoto info:  Japanese Foreign Minister Mamoru Shigemitsu signs the I
 nstrument of Surrender on behalf of the Japanese Government\, on board USS
  Missouri (BB-63)\, 2 September 1945. Lieutentant General Richard K. Suthe
 rland\, U.S. Army\, watches from the opposite side of the table. Foreign M
 inistry representative Toshikazu Kase is assisting Mr. Shigemitsu.\n\nPhot
 ograph from the Army Signal Corps Collection in the U.S. National Archives
 .
X-WR-RELCALID:6e941494ea7bdd7eb5dd0b10fa4ed0b5
X-WR-TIMEZONE:America/New_York
BEGIN:VTIMEZONE
TZID:America/New_York
BEGIN:STANDARD
TZNAME:EST
DTSTART:20271107T020000
TZOFFSETFROM:-0400
TZOFFSETTO:-0500
RDATE:20281105T020000
RDATE:20291104T020000
END:STANDARD
BEGIN:DAYLIGHT
TZNAME:EDT
DTSTART:20280312T020000
TZOFFSETFROM:-0500
TZOFFSETTO:-0400
RDATE:20290311T020000
END:DAYLIGHT
END:VTIMEZONE
BEGIN:VEVENT
UID:e738f5ea-2424-4ba7-95a4-7b14363f5ff0
DTSTAMP:20260426T035211Z
DESCRIPTION:1945: Belligerents sign Japanese surrender aboard USS Missouri.
  \n\nPhoto info:  Japanese Foreign Minister Mamoru Shigemitsu signs the In
 strument of Surrender on behalf of the Japanese Government\, on board USS 
 Missouri (BB-63)\, 2 September 1945. Lieutentant General Richard K. Suther
 land\, U.S. Army\, watches from the opposite side of the table. Foreign Mi
 nistry representative Toshikazu Kase is assisting Mr. Shigemitsu.\n\nPhoto
 graph from the Army Signal Corps Collection in the U.S. National Archives.
DTSTART;TZID=America/New_York:20280902T000000
DTEND;TZID=America/New_York:20280902T235900
LOCATION:
SUMMARY:1945: Japanese Surrender Event
END:VEVENT
END:VCALENDAR
