BEGIN:VCALENDAR
VERSION:2.0
PRODID:-//archive.cryptologicfoundation.org//NONSGML kigkonsult.se iCalcrea
 tor 2.30.10//
CALSCALE:GREGORIAN
METHOD:PUBLISH
UID:6ccbccf8-9df1-4831-8e6c-9662860eb7ba
X-WR-CALDESC:4 September 1968: First broadcast of the 'Star Trek' episode '
 The Enterprise Incident\,' loosely based on the capture of the USS Pueblo 
 (AGER-2). \n\nD. C. Fontana based this story very loosely upon the Pueblo 
 Incident\, in which a United States Navy ship and its crew were captured a
 nd held on charges of espionage for a period of almost one year after they
  allegedly strayed into North Korean waters. (wikipedia)
X-WR-RELCALID:8139f0aa590d29c40f6cb9dd532ae5da
X-WR-TIMEZONE:America/New_York
BEGIN:VTIMEZONE
TZID:America/New_York
BEGIN:STANDARD
TZNAME:EST
DTSTART:20271107T020000
TZOFFSETFROM:-0400
TZOFFSETTO:-0500
RDATE:20281105T020000
RDATE:20291104T020000
END:STANDARD
BEGIN:DAYLIGHT
TZNAME:EDT
DTSTART:20280312T020000
TZOFFSETFROM:-0500
TZOFFSETTO:-0400
RDATE:20290311T020000
END:DAYLIGHT
END:VTIMEZONE
BEGIN:VEVENT
UID:bec93200-8819-4a22-b4fc-f8e0aff97896
DTSTAMP:20260426T035545Z
DESCRIPTION:4 September 1968: First broadcast of the 'Star Trek' episode 'T
 he Enterprise Incident\,' loosely based on the capture of the USS Pueblo (
 AGER-2). \n\nD. C. Fontana based this story very loosely upon the Pueblo I
 ncident\, in which a United States Navy ship and its crew were captured an
 d held on charges of espionage for a period of almost one year after they 
 allegedly strayed into North Korean waters. (wikipedia)
DTSTART;TZID=America/New_York:20280904T000000
DTEND;TZID=America/New_York:20280904T235900
LOCATION:
SUMMARY:1968: 'Star Trek: The Enterprise Incident'
END:VEVENT
END:VCALENDAR
