BEGIN:VCALENDAR
VERSION:2.0
PRODID:-//archive.cryptologicfoundation.org//NONSGML kigkonsult.se iCalcrea
 tor 2.30.10//
CALSCALE:GREGORIAN
METHOD:PUBLISH
UID:d419b6ff-18bd-4ab6-8f1b-5a6fbf499cfb
X-WR-CALDESC:11 September 1940: The U.S. Army and Navy signed an agreement 
 on joint exploitation of Japanese PURPLE machines. \n\nRead more about the
  'Magic of PURPLE' exhibit at the NCM via the link below.
X-WR-RELCALID:8e083f505f1bf74ff34ebe4bd2b78a02
X-WR-TIMEZONE:America/New_York
BEGIN:VTIMEZONE
TZID:America/New_York
BEGIN:STANDARD
TZNAME:EST
DTSTART:20271107T020000
TZOFFSETFROM:-0400
TZOFFSETTO:-0500
RDATE:20281105T020000
RDATE:20291104T020000
END:STANDARD
BEGIN:DAYLIGHT
TZNAME:EDT
DTSTART:20280312T020000
TZOFFSETFROM:-0500
TZOFFSETTO:-0400
RDATE:20290311T020000
RDATE:20300310T020000
END:DAYLIGHT
END:VTIMEZONE
BEGIN:VEVENT
UID:318e05ae-3429-4fcf-a978-4882073bc31a
DTSTAMP:20260426T035806Z
DESCRIPTION:11 September 1940: The U.S. Army and Navy signed an agreement o
 n joint exploitation of Japanese PURPLE machines. \n\nRead more about the 
 'Magic of PURPLE' exhibit at the NCM via the link below.
DTSTART;TZID=America/New_York:20280911T000000
DTEND;TZID=America/New_York:20280911T235900
LOCATION:
SUMMARY:1940: Army & Navy Joint Exploitation of PURPLE
END:VEVENT
END:VCALENDAR
