BEGIN:VCALENDAR
VERSION:2.0
PRODID:-//archive.cryptologicfoundation.org//NONSGML kigkonsult.se iCalcrea
 tor 2.30.10//
CALSCALE:GREGORIAN
METHOD:PUBLISH
UID:8d5b2eb0-0c92-4b2c-914c-5386d54ca4e0
X-WR-CALDESC:17 September 1967: Dr. David Kahn's book\, 'The Codebreakers' 
 was published. \n\nLearn about the many rare and interesting cryptologic i
 tems that Dr. Kahn has donated to the Foundation and Museum over the years
  in our Special Acquisitions section via the link below.
X-WR-RELCALID:d95be144b2f1ab63d2e24e65488b8522
X-WR-TIMEZONE:America/New_York
BEGIN:VTIMEZONE
TZID:America/New_York
BEGIN:STANDARD
TZNAME:EST
DTSTART:20271107T020000
TZOFFSETFROM:-0400
TZOFFSETTO:-0500
RDATE:20281105T020000
RDATE:20291104T020000
END:STANDARD
BEGIN:DAYLIGHT
TZNAME:EDT
DTSTART:20280312T020000
TZOFFSETFROM:-0500
TZOFFSETTO:-0400
RDATE:20290311T020000
RDATE:20300310T020000
END:DAYLIGHT
END:VTIMEZONE
BEGIN:VEVENT
UID:665edb7d-abe3-418c-9879-43ef00f46e95
DTSTAMP:20260426T035125Z
DESCRIPTION:17 September 1967: Dr. David Kahn's book\, 'The Codebreakers' w
 as published. \n\nLearn about the many rare and interesting cryptologic it
 ems that Dr. Kahn has donated to the Foundation and Museum over the years 
 in our Special Acquisitions section via the link below.
DTSTART;TZID=America/New_York:20280917T000000
DTEND;TZID=America/New_York:20280917T235900
LOCATION:
SUMMARY:1967: David Kahn's book\, 'The Codebreakers' was published.
END:VEVENT
END:VCALENDAR
