BEGIN:VCALENDAR
VERSION:2.0
PRODID:-//archive.cryptologicfoundation.org//NONSGML kigkonsult.se iCalcrea
 tor 2.30.10//
CALSCALE:GREGORIAN
METHOD:PUBLISH
UID:fe79be74-8c93-4b97-bb00-cdf8ec074844
X-WR-CALDESC:25 September 1807: Alfred Vail\, co-inventor of the telegraph 
 was born. \n\nVail was central\, with Samuel F. B. Morse\, in developing a
 nd commercializing the telegraph between 1837 and 1844. Vail and Morse wer
 e the first two telegraph operators on Morse's first experimental line bet
 ween Washington\, DC\, and Baltimore\, and Vail took charge of building an
 d managing several early telegraph lines between 1845 and 1848. He was als
 o responsible for several technical innovations of Morse's system\, partic
 ularly the sending key and improved recording registers and relay magnets.
  (wikipedia)
X-WR-RELCALID:77731ec5909dfa2b1bb2bf2711b542fd
X-WR-TIMEZONE:America/New_York
BEGIN:VTIMEZONE
TZID:America/New_York
BEGIN:STANDARD
TZNAME:EST
DTSTART:20271107T020000
TZOFFSETFROM:-0400
TZOFFSETTO:-0500
RDATE:20281105T020000
RDATE:20291104T020000
END:STANDARD
BEGIN:DAYLIGHT
TZNAME:EDT
DTSTART:20280312T020000
TZOFFSETFROM:-0500
TZOFFSETTO:-0400
RDATE:20290311T020000
RDATE:20300310T020000
END:DAYLIGHT
END:VTIMEZONE
BEGIN:VEVENT
UID:0714aea2-b1b1-4a03-a020-f97ed5f14aad
DTSTAMP:20260426T035751Z
DESCRIPTION:25 September 1807: Alfred Vail\, co-inventor of the telegraph w
 as born. \n\nVail was central\, with Samuel F. B. Morse\, in developing an
 d commercializing the telegraph between 1837 and 1844. Vail and Morse were
  the first two telegraph operators on Morse's first experimental line betw
 een Washington\, DC\, and Baltimore\, and Vail took charge of building and
  managing several early telegraph lines between 1845 and 1848. He was also
  responsible for several technical innovations of Morse's system\, particu
 larly the sending key and improved recording registers and relay magnets. 
 (wikipedia)
DTSTART;TZID=America/New_York:20280925T000000
DTEND;TZID=America/New_York:20280925T235900
LOCATION:
SUMMARY:1807: Alfred Vail\, Telegraph Co-Inventor Born
END:VEVENT
END:VCALENDAR
