BEGIN:VCALENDAR
VERSION:2.0
PRODID:-//archive.cryptologicfoundation.org//NONSGML kigkonsult.se iCalcrea
 tor 2.30.10//
CALSCALE:GREGORIAN
METHOD:PUBLISH
UID:8092f73c-02b0-4bc9-954e-3fdffff07a23
X-WR-CALDESC:29 September 1978: USMC turned over responsibility for guardin
 g NSA Fort Meade to Federal Protective Service.
X-WR-RELCALID:160feaa61483319face3c6e56313524a
X-WR-TIMEZONE:America/New_York
BEGIN:VTIMEZONE
TZID:America/New_York
BEGIN:STANDARD
TZNAME:EST
DTSTART:20271107T020000
TZOFFSETFROM:-0400
TZOFFSETTO:-0500
RDATE:20281105T020000
RDATE:20291104T020000
END:STANDARD
BEGIN:DAYLIGHT
TZNAME:EDT
DTSTART:20280312T020000
TZOFFSETFROM:-0500
TZOFFSETTO:-0400
RDATE:20290311T020000
RDATE:20300310T020000
END:DAYLIGHT
END:VTIMEZONE
BEGIN:VEVENT
UID:c237137f-87c0-459f-ad2b-37dd9d8ff105
DTSTAMP:20260426T035300Z
DESCRIPTION:29 September 1978: USMC turned over responsibility for guarding
  NSA Fort Meade to Federal Protective Service.
DTSTART;TZID=America/New_York:20280929T000000
DTEND;TZID=America/New_York:20280929T235900
LOCATION:
SUMMARY:1978: Fort Meade Protective Service
END:VEVENT
END:VCALENDAR
