BEGIN:VCALENDAR
VERSION:2.0
PRODID:-//archive.cryptologicfoundation.org//NONSGML kigkonsult.se iCalcrea
 tor 2.30.10//
CALSCALE:GREGORIAN
METHOD:PUBLISH
UID:8c39a8ce-5269-447a-a217-ad716465d3e1
X-WR-CALDESC:REGISTRATION IS OPEN for the next Cyber Saturday event. We loo
 k forward to seeing students & parents for another fun and educational cyb
 er-filled day! See the link below to learn about past Cyber Saturday event
 s. <a href='https://thetac.tech/cyber-saturday/' target='_blank' rel='nore
 ferrer noopener'>Please visit the TAC website to register.</a>\n\nJoin us 
 this Cyber Saturday for five dynamic sessions exploring the world of cyber
 security\, designed for 5th–12th grade students. Plus\, we offer the Cyber
  Elite Track\, an exclusive\, advanced cybersecurity strategy program tail
 ored for high school students in grades 9–12.\n\nCyber Saturdays are speci
 ally designed for aspiring young cybersecurity enthusiasts\, lovers of tec
 hnology and computer science superstars. This is an immersive and educatio
 nal experience into cyber space and beyond that is unforgettable for stude
 nts and their parents.\n\nLearn more about our Cyber Saturday events via t
 he link below.
X-WR-RELCALID:472c5467fb7978acf407202137b8994c
X-WR-TIMEZONE:America/New_York
BEGIN:VTIMEZONE
TZID:America/New_York
BEGIN:STANDARD
TZNAME:EST
DTSTART:20251102T020000
TZOFFSETFROM:-0400
TZOFFSETTO:-0500
RDATE:20261101T020000
END:STANDARD
BEGIN:DAYLIGHT
TZNAME:EDT
DTSTART:20250309T020000
TZOFFSETFROM:-0500
TZOFFSETTO:-0400
RDATE:20260308T020000
RDATE:20270314T020000
END:DAYLIGHT
END:VTIMEZONE
BEGIN:VEVENT
UID:1d25ba53-16e3-42ff-b35a-628d0b5691d2
DTSTAMP:20260424T065054Z
DESCRIPTION:REGISTRATION IS OPEN for the next Cyber Saturday event. We look
  forward to seeing students & parents for another fun and educational cybe
 r-filled day! See the link below to learn about past Cyber Saturday events
 . <a href='https://thetac.tech/cyber-saturday/' target='_blank' rel='noref
 errer noopener'>Please visit the TAC website to register.</a>\n\nJoin us t
 his Cyber Saturday for five dynamic sessions exploring the world of cybers
 ecurity\, designed for 5th–12th grade students. Plus\, we offer the Cyber 
 Elite Track\, an exclusive\, advanced cybersecurity strategy program tailo
 red for high school students in grades 9–12.\n\nCyber Saturdays are specia
 lly designed for aspiring young cybersecurity enthusiasts\, lovers of tech
 nology and computer science superstars. This is an immersive and education
 al experience into cyber space and beyond that is unforgettable for studen
 ts and their parents.\n\nLearn more about our Cyber Saturday events via th
 e link below.
DTSTART;TZID=America/New_York:20260117T060000
DTEND;TZID=America/New_York:20260117T060001
LOCATION:Technological Advancement Center (TAC) - TheLink 7000 Columbia Gat
 eway\, Suite 150 Columbia\, MD 21046
SUMMARY:NCF Cyber Saturday
END:VEVENT
END:VCALENDAR
