BEGIN:VCALENDAR
VERSION:2.0
PRODID:-//archive.cryptologicfoundation.org//NONSGML kigkonsult.se iCalcrea
 tor 2.30.10//
CALSCALE:GREGORIAN
METHOD:PUBLISH
UID:44daa014-a48f-4554-826c-4ab517fec689
X-WR-CALDESC:Every January 28th is <b>Data Privacy Day</b>. Millions of peo
 ple are unaware of and uninformed about how their personal information is 
 being used\, collected\, or shared in our digital society. Data Privacy Da
 y aims to inspire dialogue and empower individuals and companies to take a
 ction.\n\nThe NCMF is educating K-12 students to be good stewards of the i
 nternet. Several of our <b>#CyberChats</b> are focused on Data Privacy and
  Safe Internet Practices. See the link below to visit our Online Education
  via Nepris page where you can link to recordings of past #CyberChats. \n
 \n<b>Below are a few examples of related #CyberChats you will find on the 
 page:</b>\n\n* 2 Dec 2020: A Conversation with Dr. Whitfield Diffie - Topi
 c: Data Encryption.\n* 18 May 2020: Cybersecurity Principles: Data\, Priva
 cy\, & Trust. (Featuring Ron Gula of Gula Tech Adventures)\n* 29 May 2020:
  Ethics & Trust in Cybersecurity (Featuring Taylor Ownbey of Capitol Techn
 ology University)\n<b>*** Please also stay tuned for details about our upc
 oming #CyberChat on 9 Feb at 11am EST for Safer Internet Day!</b>\n\nWe ho
 pe you will consider <b><a href='https://cryptologicfoundation.org/support
 -us/donate/give/donate-online.html' target='_blank' rel='noreferrer noopen
 er'>donating to the NCMF in support of our ongoing Education Program</a></
 b>.\n\nWe also encourage you to visit the National Cyber Security Alliance
  site staysafeonline.org for a variety of tips ans resources. See links in
 cluded below.\n\nHere are a few tips to get you started:\n* Switch on two-
 step verification or multi-factor authentication wherever offered to preve
 nt unauthorized access.\n* Check on and update your personal privacy setti
 ngs for wherever and however you go online.\n
X-WR-RELCALID:d49e4428478412f3b81c6125dc758ab4
X-WR-TIMEZONE:America/New_York
BEGIN:VTIMEZONE
TZID:America/New_York
BEGIN:STANDARD
TZNAME:EST
DTSTART:20251102T020000
TZOFFSETFROM:-0400
TZOFFSETTO:-0500
RDATE:20261101T020000
END:STANDARD
BEGIN:DAYLIGHT
TZNAME:EDT
DTSTART:20250309T020000
TZOFFSETFROM:-0500
TZOFFSETTO:-0400
RDATE:20260308T020000
RDATE:20270314T020000
END:DAYLIGHT
END:VTIMEZONE
BEGIN:VEVENT
UID:4baa3623-02e0-4e42-baf2-879da231112f
DTSTAMP:20260424T065355Z
DESCRIPTION:Every January 28th is <b>Data Privacy Day</b>. Millions of peop
 le are unaware of and uninformed about how their personal information is b
 eing used\, collected\, or shared in our digital society. Data Privacy Day
  aims to inspire dialogue and empower individuals and companies to take ac
 tion.\n\nThe NCMF is educating K-12 students to be good stewards of the in
 ternet. Several of our <b>#CyberChats</b> are focused on Data Privacy and 
 Safe Internet Practices. See the link below to visit our Online Education 
 via Nepris page where you can link to recordings of past #CyberChats. \n\n
 <b>Below are a few examples of related #CyberChats you will find on the pa
 ge:</b>\n\n* 2 Dec 2020: A Conversation with Dr. Whitfield Diffie - Topic:
  Data Encryption.\n* 18 May 2020: Cybersecurity Principles: Data\, Privacy
 \, & Trust. (Featuring Ron Gula of Gula Tech Adventures)\n* 29 May 2020: E
 thics & Trust in Cybersecurity (Featuring Taylor Ownbey of Capitol Technol
 ogy University)\n<b>*** Please also stay tuned for details about our upcom
 ing #CyberChat on 9 Feb at 11am EST for Safer Internet Day!</b>\n\nWe hope
  you will consider <b><a href='https://cryptologicfoundation.org/support-u
 s/donate/give/donate-online.html' target='_blank' rel='noreferrer noopener
 '>donating to the NCMF in support of our ongoing Education Program</a></b>
 .\n\nWe also encourage you to visit the National Cyber Security Alliance s
 ite staysafeonline.org for a variety of tips ans resources. See links incl
 uded below.\n\nHere are a few tips to get you started:\n* Switch on two-st
 ep verification or multi-factor authentication wherever offered to prevent
  unauthorized access.\n* Check on and update your personal privacy setting
 s for wherever and however you go online.\n
DTSTART;TZID=America/New_York:20260128T000000
DTEND;TZID=America/New_York:20260128T235900
LOCATION:Online
SUMMARY:Data Privacy Day
END:VEVENT
END:VCALENDAR
