BEGIN:VCALENDAR
VERSION:2.0
PRODID:-//archive.cryptologicfoundation.org//NONSGML kigkonsult.se iCalcrea
 tor 2.30.10//
CALSCALE:GREGORIAN
METHOD:PUBLISH
UID:cafc6ebf-7543-4ee5-8ba7-81f37878e1f5
X-WR-CALDESC:#WTD2021\n\nThe theme for World Thinking Day 2021 is <b>peaceb
 uilding.</b>\n\nPeacebuilding is at the heart of Girl Guiding and Girl Sco
 uting and is as vital and relevant today as for the last 100 years. By com
 pleting the steps in the Stand Together For Peace activity pack\, Girl Gui
 des and Girl Scouts will\; Stand Strong\, Stand up and Stand Together for 
 peacebuilding.\n\nCelebrated since 1926\, World Thinking Day is a day of i
 nternational friendship. It is an opportunity to speak out on issues that 
 affect young women and fundraise for 10 million Girl Guides and Girl Scout
 s in 150 countries. Learn more via the links below.
X-WR-RELCALID:08c0dbae27365ff6317b0204922f6b00
X-WR-TIMEZONE:America/New_York
BEGIN:VTIMEZONE
TZID:America/New_York
BEGIN:STANDARD
TZNAME:EST
DTSTART:20251102T020000
TZOFFSETFROM:-0400
TZOFFSETTO:-0500
RDATE:20261101T020000
END:STANDARD
BEGIN:DAYLIGHT
TZNAME:EDT
DTSTART:20250309T020000
TZOFFSETFROM:-0500
TZOFFSETTO:-0400
RDATE:20260308T020000
RDATE:20270314T020000
END:DAYLIGHT
END:VTIMEZONE
BEGIN:VEVENT
UID:d2962dbc-98f5-4b8e-bb6c-fcb7675d4f62
DTSTAMP:20260424T050920Z
DESCRIPTION:#WTD2021\n\nThe theme for World Thinking Day 2021 is <b>peacebu
 ilding.</b>\n\nPeacebuilding is at the heart of Girl Guiding and Girl Scou
 ting and is as vital and relevant today as for the last 100 years. By comp
 leting the steps in the Stand Together For Peace activity pack\, Girl Guid
 es and Girl Scouts will\; Stand Strong\, Stand up and Stand Together for p
 eacebuilding.\n\nCelebrated since 1926\, World Thinking Day is a day of in
 ternational friendship. It is an opportunity to speak out on issues that a
 ffect young women and fundraise for 10 million Girl Guides and Girl Scouts
  in 150 countries. Learn more via the links below.
DTSTART;TZID=America/New_York:20260222T000000
DTEND;TZID=America/New_York:20260222T235900
LOCATION:
SUMMARY:World Thinking Day - Girl Scouts
END:VEVENT
END:VCALENDAR
