BEGIN:VCALENDAR
VERSION:2.0
PRODID:-//archive.cryptologicfoundation.org//NONSGML kigkonsult.se iCalcrea
 tor 2.30.10//
CALSCALE:GREGORIAN
METHOD:PUBLISH
UID:20a7c31e-0e14-4c74-a23c-2c3f4d36a22a
X-WR-CALDESC:<b>Digital Learning Day or #DLDay</b> is an online celebration
  where educators share great ideas\, amazing stories\, and promising pract
 ices through social media and within their own schools and communities. Th
 ousands of local events\, interactive activities\, and lessons mark the im
 portance of innovation in schools and remind district leaders that every d
 ay should be a digital learning day in public school classrooms.\n\nNow\, 
 more than ever\, digital learning is not confined to a school or classroom
 . Instead learning is mobile and should be available to students anytime a
 nd anywhere. Whether learning happens at home\, school\, a library\, or lo
 cal coffee shop it must be high-quality\, customizable\, and equitable for
  each and every student.\n\nAlthough current circumstances created by a gl
 obal pandemic are undesirable\, they offer district\, school\, and classro
 om leaders an opportunity to transform the policies and daily practices th
 at guide teaching and learning. Through collaborative leadership\, educato
 rs can redesign the school experience and deliver on the potential digital
  learning holds for creating a workforce that truly is future ready.\n\nLe
 arn more via the Digital Learning Day website link below.\n\nAlso - please
  visit our own online learning resource page (see link below) where we hav
 e links to recordings of NCMF #CyberChats focused on K-12 students\, teach
 ers\, and parents as we strive to encourage and inspire students to pursue
  additional education and a career in a cyber-related field.
X-WR-RELCALID:63bb8f208db543585f911c3b623c78f3
X-WR-TIMEZONE:America/New_York
BEGIN:VTIMEZONE
TZID:America/New_York
BEGIN:STANDARD
TZNAME:EST
DTSTART:20251102T020000
TZOFFSETFROM:-0400
TZOFFSETTO:-0500
RDATE:20261101T020000
END:STANDARD
BEGIN:DAYLIGHT
TZNAME:EDT
DTSTART:20250309T020000
TZOFFSETFROM:-0500
TZOFFSETTO:-0400
RDATE:20260308T020000
RDATE:20270314T020000
END:DAYLIGHT
END:VTIMEZONE
BEGIN:VEVENT
UID:2bcf95fc-e156-444a-8fc4-23affc1f3843
DTSTAMP:20260424T050713Z
DESCRIPTION:<b>Digital Learning Day or #DLDay</b> is an online celebration 
 where educators share great ideas\, amazing stories\, and promising practi
 ces through social media and within their own schools and communities. Tho
 usands of local events\, interactive activities\, and lessons mark the imp
 ortance of innovation in schools and remind district leaders that every da
 y should be a digital learning day in public school classrooms.\n\nNow\, m
 ore than ever\, digital learning is not confined to a school or classroom.
  Instead learning is mobile and should be available to students anytime an
 d anywhere. Whether learning happens at home\, school\, a library\, or loc
 al coffee shop it must be high-quality\, customizable\, and equitable for 
 each and every student.\n\nAlthough current circumstances created by a glo
 bal pandemic are undesirable\, they offer district\, school\, and classroo
 m leaders an opportunity to transform the policies and daily practices tha
 t guide teaching and learning. Through collaborative leadership\, educator
 s can redesign the school experience and deliver on the potential digital 
 learning holds for creating a workforce that truly is future ready.\n\nLea
 rn more via the Digital Learning Day website link below.\n\nAlso - please 
 visit our own online learning resource page (see link below) where we have
  links to recordings of NCMF #CyberChats focused on K-12 students\, teache
 rs\, and parents as we strive to encourage and inspire students to pursue 
 additional education and a career in a cyber-related field.
DTSTART;TZID=America/New_York:20260225T000000
DTEND;TZID=America/New_York:20260225T235900
LOCATION:
SUMMARY:Digital Learning Day
END:VEVENT
END:VCALENDAR
