BEGIN:VCALENDAR
VERSION:2.0
PRODID:-//archive.cryptologicfoundation.org//NONSGML kigkonsult.se iCalcrea
 tor 2.30.10//
CALSCALE:GREGORIAN
METHOD:PUBLISH
UID:f399ceb3-ebf1-4b2e-bbf4-d082f84cbfb8
X-WR-CALDESC:CodeDay's mantra is that there is a place in Tech for everyone
 ! \n\nDuring Virtual CodeDay Winter 2021: Join thousands of students to ma
 ke new friends\, and make an amazing app or game. No prior experience need
 ed! \n(Plus a virtual gaming tournament\, workshops\, swag\, prizes\, and 
 more!)\n\nCodeDay is a non-profit providing welcoming and diverse opportun
 ities for under-served students to explore a future in tech and beyond.\n
 \nLearn more via the link below.
X-WR-RELCALID:3b57b50694636513fbf9527b1d126840
X-WR-TIMEZONE:America/New_York
BEGIN:VTIMEZONE
TZID:America/New_York
BEGIN:STANDARD
TZNAME:EST
DTSTART:20251102T020000
TZOFFSETFROM:-0400
TZOFFSETTO:-0500
RDATE:20261101T020000
END:STANDARD
BEGIN:DAYLIGHT
TZNAME:EDT
DTSTART:20250309T020000
TZOFFSETFROM:-0500
TZOFFSETTO:-0400
RDATE:20260308T020000
RDATE:20270314T020000
END:DAYLIGHT
END:VTIMEZONE
BEGIN:VEVENT
UID:e0fa91f9-4e16-446e-ba66-8ee2b0b44120
DTSTAMP:20260424T050800Z
DESCRIPTION:CodeDay's mantra is that there is a place in Tech for everyone!
  \n\nDuring Virtual CodeDay Winter 2021: Join thousands of students to mak
 e new friends\, and make an amazing app or game. No prior experience neede
 d! \n(Plus a virtual gaming tournament\, workshops\, swag\, prizes\, and m
 ore!)\n\nCodeDay is a non-profit providing welcoming and diverse opportuni
 ties for under-served students to explore a future in tech and beyond.\n\n
 Learn more via the link below.
DTSTART;TZID=America/New_York:20260226T000000
DTEND;TZID=America/New_York:20260228T235900
LOCATION:
SUMMARY:CodeDay - Virtual
END:VEVENT
END:VCALENDAR
