BEGIN:VCALENDAR
VERSION:2.0
PRODID:-//archive.cryptologicfoundation.org//NONSGML kigkonsult.se iCalcrea
 tor 2.30.10//
CALSCALE:GREGORIAN
METHOD:PUBLISH
UID:0af3552a-7ae2-47ce-9bb5-9ff908421198
X-WR-CALDESC:International Women's Day is a global day celebrating the soci
 al\, economic\, cultural \,and political achievements of women. The day al
 so marks a call to action for accelerating gender parity. Significant acti
 vity is witnessed worldwide as groups come together to celebrate women's a
 chievements or rally for women's equality. \n\nThe campaign theme for Inte
 rnational Women's Day 2021 is <b>'Choose To Challenge'.</b> A challenged w
 orld is an alert world. And from challenge comes change. So let's all #Cho
 oseToChallenge. Purple\, green and white are the colors of International W
 omen's Day. Purple signifies justice and dignity. Green symbolizes hope. W
 hite represents purity\, albeit a controversial concept. The colors origin
 ated from the Women's Social and Political Union (WSPU) in the UK in 1908.
 \n\nMarked annually on March 8th\, International Women's Day (IWD) is one 
 of the most important days of the year to:\n\n    * celebrate women's achi
 evements\n    * raise awareness about women's equality\n    * lobby for ac
 celerated gender parity\n    * fundraise for female-focused charities\n\nI
 nternational Women’s Day is a time to reflect on progress made\, to call f
 or change\, and to celebrate acts of courage and determination by ordinary
  women\, who have played an extraordinary role in the history of their cou
 ntries and communities.\n\nDespite great progress\, legal restrictions hav
 e kept 2.7 billion women from accessing the same choice of jobs as men. Le
 ss than 25 per cent of parliamentarians were women\, as of 2019. One in th
 ree women experience gender-based violence\, still. Let's continue to stri
 ve for progress.\n\nVisit our page - Female Pioneers in Cryptology & Relat
 ed Fields (see LINK below) to learn more about amazing women in history. A
 nd as we celebrate Women's History Month during the month of March - stay 
 tuned to our social media channels to learn about the female pioneers of A
 merican cryptology and cybersecurity.
X-WR-RELCALID:7619f8c7e7ed736d13c9c1c747784bff
X-WR-TIMEZONE:America/New_York
BEGIN:VTIMEZONE
TZID:America/New_York
BEGIN:STANDARD
TZNAME:EST
DTSTART:20251102T020000
TZOFFSETFROM:-0400
TZOFFSETTO:-0500
RDATE:20261101T020000
END:STANDARD
BEGIN:DAYLIGHT
TZNAME:EDT
DTSTART:20250309T020000
TZOFFSETFROM:-0500
TZOFFSETTO:-0400
RDATE:20260308T020000
RDATE:20270314T020000
END:DAYLIGHT
END:VTIMEZONE
BEGIN:VEVENT
UID:c8c5bc3c-4106-4d55-96aa-5b7f8fa9d05c
DTSTAMP:20260424T032214Z
DESCRIPTION:International Women's Day is a global day celebrating the socia
 l\, economic\, cultural \,and political achievements of women. The day als
 o marks a call to action for accelerating gender parity. Significant activ
 ity is witnessed worldwide as groups come together to celebrate women's ac
 hievements or rally for women's equality. \n\nThe campaign theme for Inter
 national Women's Day 2021 is <b>'Choose To Challenge'.</b> A challenged wo
 rld is an alert world. And from challenge comes change. So let's all #Choo
 seToChallenge. Purple\, green and white are the colors of International Wo
 men's Day. Purple signifies justice and dignity. Green symbolizes hope. Wh
 ite represents purity\, albeit a controversial concept. The colors origina
 ted from the Women's Social and Political Union (WSPU) in the UK in 1908.
 \n\nMarked annually on March 8th\, International Women's Day (IWD) is one 
 of the most important days of the year to:\n\n    * celebrate women's achi
 evements\n    * raise awareness about women's equality\n    * lobby for ac
 celerated gender parity\n    * fundraise for female-focused charities\n\nI
 nternational Women’s Day is a time to reflect on progress made\, to call f
 or change\, and to celebrate acts of courage and determination by ordinary
  women\, who have played an extraordinary role in the history of their cou
 ntries and communities.\n\nDespite great progress\, legal restrictions hav
 e kept 2.7 billion women from accessing the same choice of jobs as men. Le
 ss than 25 per cent of parliamentarians were women\, as of 2019. One in th
 ree women experience gender-based violence\, still. Let's continue to stri
 ve for progress.\n\nVisit our page - Female Pioneers in Cryptology & Relat
 ed Fields (see LINK below) to learn more about amazing women in history. A
 nd as we celebrate Women's History Month during the month of March - stay 
 tuned to our social media channels to learn about the female pioneers of A
 merican cryptology and cybersecurity.
DTSTART;TZID=America/New_York:20260308T000000
DTEND;TZID=America/New_York:20260308T235900
LOCATION:Worldwide
SUMMARY:International Women's Day
END:VEVENT
END:VCALENDAR
