BEGIN:VCALENDAR
VERSION:2.0
PRODID:-//archive.cryptologicfoundation.org//NONSGML kigkonsult.se iCalcrea
 tor 2.30.10//
CALSCALE:GREGORIAN
METHOD:PUBLISH
UID:4f285d3b-8c96-43b1-a31d-ec357909f0e4
X-WR-CALDESC:SAVE THE DATE for the next QRC-focused Convening to Act - to b
 e held in College Park\, MD. \n\nThe March 2026 program will be our 4th QR
 C-focused Convening to Act. Please stay tuned for information about the th
 eme\, agenda\, speakers\, and more.\n\nTo learn about prior Convening to A
 ct programs - see the link provided below.
X-WR-RELCALID:78abbad0358f97ebf6d585ffa5ea865f
X-WR-TIMEZONE:America/New_York
BEGIN:VTIMEZONE
TZID:America/New_York
BEGIN:STANDARD
TZNAME:EST
DTSTART:20251102T020000
TZOFFSETFROM:-0400
TZOFFSETTO:-0500
RDATE:20261101T020000
END:STANDARD
BEGIN:DAYLIGHT
TZNAME:EDT
DTSTART:20260308T020000
TZOFFSETFROM:-0500
TZOFFSETTO:-0400
RDATE:20270314T020000
END:DAYLIGHT
END:VTIMEZONE
BEGIN:VEVENT
UID:d3bac3a4-4f00-4bb5-af54-bbb89f205ad6
DTSTAMP:20260424T032110Z
DESCRIPTION:SAVE THE DATE for the next QRC-focused Convening to Act - to be
  held in College Park\, MD. \n\nThe March 2026 program will be our 4th QRC
 -focused Convening to Act. Please stay tuned for information about the the
 me\, agenda\, speakers\, and more.\n\nTo learn about prior Convening to Ac
 t programs - see the link provided below.
DTSTART;TZID=America/New_York:20260317T060000
DTEND;TZID=America/New_York:20260317T060001
LOCATION:College Park Marriott Hotel & Conference Center - General Vessey B
 allroom 3501 University Blvd East Hyattsville\, MD 20783
SUMMARY:Convening to Act: Quantum Resistant Cryptography (QRC)
END:VEVENT
END:VCALENDAR
