BEGIN:VCALENDAR
VERSION:2.0
PRODID:-//archive.cryptologicfoundation.org//NONSGML kigkonsult.se iCalcrea
 tor 2.30.10//
CALSCALE:GREGORIAN
METHOD:PUBLISH
UID:b97d5f5a-4404-4149-ba36-d55e9f0ae0ab
X-WR-CALDESC:We wish everyone could take the opportunity to visit the beaut
 iful state of Maryland that is also home to our National Cryptologic Museu
 m. Visit soon! Maryland Day 2021 will offer a variety of in person and vir
 tual activities. Visit the website below to learn more and stay tuned to o
 ur website for news about how we will honor our home state.
X-WR-RELCALID:61fd646fc6712119c14bcc18cf647def
X-WR-TIMEZONE:America/New_York
BEGIN:VTIMEZONE
TZID:America/New_York
BEGIN:STANDARD
TZNAME:EST
DTSTART:20251102T020000
TZOFFSETFROM:-0400
TZOFFSETTO:-0500
RDATE:20261101T020000
END:STANDARD
BEGIN:DAYLIGHT
TZNAME:EDT
DTSTART:20260308T020000
TZOFFSETFROM:-0500
TZOFFSETTO:-0400
RDATE:20270314T020000
END:DAYLIGHT
END:VTIMEZONE
BEGIN:VEVENT
UID:8ba693a1-441c-4caa-8e5d-187d752f8ff7
DTSTAMP:20260424T032147Z
DESCRIPTION:We wish everyone could take the opportunity to visit the beauti
 ful state of Maryland that is also home to our National Cryptologic Museum
 . Visit soon! Maryland Day 2021 will offer a variety of in person and virt
 ual activities. Visit the website below to learn more and stay tuned to ou
 r website for news about how we will honor our home state.
DTSTART;TZID=America/New_York:20260325T000000
DTEND;TZID=America/New_York:20260325T235900
LOCATION:
SUMMARY:Maryland Day
END:VEVENT
END:VCALENDAR
