BEGIN:VCALENDAR
VERSION:2.0
PRODID:-//archive.cryptologicfoundation.org//NONSGML kigkonsult.se iCalcrea
 tor 2.30.10//
CALSCALE:GREGORIAN
METHOD:PUBLISH
UID:a16ea08a-0e4c-46f0-a31b-ebcb88355062
X-WR-CALDESC:Maison Centrale\, or Hoa Lo Prison\, was originally constructe
 d by the French Colonial Government in Hanoi's French Quarter from 1886 to
  1901. After Vietnamese forces pushed the French out in 1954\, the Hoa Lo 
 Prison fell under the authority of Vietnam. When the Vietnam War erupted s
 hortly after\, the North Vietnamese used the Hao Lo Prison to house United
  States prisoners of war\, earning it the infamous nickname\, “Hanoi Hilto
 n.'\n\nThis simple red brick is from the destruction of the Hoa Lo Prison 
 and is symbolic of our Military Veterans’ courageous service during the Vi
 etnam War. The artifact serves as a reminder of the sacrifices and hardshi
 ps our former prisoners of war endured. This brick from the infamous “Hano
 i Hilton” was recovered in 1993 and presented to the museum by the “Dogger
 s” group in June 2018. (NCM photo)
X-WR-RELCALID:10eac7e99ef207620d1d41c380a0b1f2
X-WR-TIMEZONE:America/New_York
BEGIN:VTIMEZONE
TZID:America/New_York
BEGIN:STANDARD
TZNAME:EST
DTSTART:20251102T020000
TZOFFSETFROM:-0400
TZOFFSETTO:-0500
RDATE:20261101T020000
END:STANDARD
BEGIN:DAYLIGHT
TZNAME:EDT
DTSTART:20260308T020000
TZOFFSETFROM:-0500
TZOFFSETTO:-0400
RDATE:20270314T020000
END:DAYLIGHT
END:VTIMEZONE
BEGIN:VEVENT
UID:d51eff72-15d6-4307-a575-b279819d8d99
DTSTAMP:20260424T050932Z
DESCRIPTION:Maison Centrale\, or Hoa Lo Prison\, was originally constructed
  by the French Colonial Government in Hanoi's French Quarter from 1886 to 
 1901. After Vietnamese forces pushed the French out in 1954\, the Hoa Lo P
 rison fell under the authority of Vietnam. When the Vietnam War erupted sh
 ortly after\, the North Vietnamese used the Hao Lo Prison to house United 
 States prisoners of war\, earning it the infamous nickname\, “Hanoi Hilton
 .'\n\nThis simple red brick is from the destruction of the Hoa Lo Prison a
 nd is symbolic of our Military Veterans’ courageous service during the Vie
 tnam War. The artifact serves as a reminder of the sacrifices and hardship
 s our former prisoners of war endured. This brick from the infamous “Hanoi
  Hilton” was recovered in 1993 and presented to the museum by the “Doggers
 ” group in June 2018. (NCM photo)
DTSTART;TZID=America/New_York:20260409T000000
DTEND;TZID=America/New_York:20260409T235900
LOCATION:
SUMMARY:National Former POW Day
END:VEVENT
END:VCALENDAR
