BEGIN:VCALENDAR
VERSION:2.0
PRODID:-//archive.cryptologicfoundation.org//NONSGML kigkonsult.se iCalcrea
 tor 2.30.10//
CALSCALE:GREGORIAN
METHOD:PUBLISH
UID:37b16249-e051-47ac-892b-0d6218c3d5a8
X-WR-CALDESC:Instead of cyber tips today - how about checking out some <a h
 ref='https://www.earthday.org/earth-day-tips/'>#EarthDay Tips</a> for cele
 brating\, protecting\, and preserving the Earth for generations to come! H
 appy Earth Day to all!
X-WR-RELCALID:939da60bef29926264e0da3c18d9e009
X-WR-TIMEZONE:America/New_York
BEGIN:VTIMEZONE
TZID:America/New_York
BEGIN:STANDARD
TZNAME:EST
DTSTART:20251102T020000
TZOFFSETFROM:-0400
TZOFFSETTO:-0500
RDATE:20261101T020000
END:STANDARD
BEGIN:DAYLIGHT
TZNAME:EDT
DTSTART:20260308T020000
TZOFFSETFROM:-0500
TZOFFSETTO:-0400
RDATE:20270314T020000
END:DAYLIGHT
END:VTIMEZONE
BEGIN:VEVENT
UID:180c802d-c54c-43ca-bdd9-357b6d4f3d9b
DTSTAMP:20260424T013210Z
DESCRIPTION:Instead of cyber tips today - how about checking out some <a hr
 ef='https://www.earthday.org/earth-day-tips/'>#EarthDay Tips</a> for celeb
 rating\, protecting\, and preserving the Earth for generations to come! Ha
 ppy Earth Day to all!
DTSTART;TZID=America/New_York:20260422T000000
DTEND;TZID=America/New_York:20260422T235900
LOCATION:Planet Earth
SUMMARY:Earth Day
END:VEVENT
END:VCALENDAR
