BEGIN:VCALENDAR
VERSION:2.0
PRODID:-//archive.cryptologicfoundation.org//NONSGML kigkonsult.se iCalcrea
 tor 2.30.10//
CALSCALE:GREGORIAN
METHOD:PUBLISH
UID:cd311142-c846-4935-8b97-b5e5a2cb54bf
X-WR-CALDESC:SAVE THE DATE for the Spring 2026 Cyber Saturday event. As alw
 ays\, we look forward to seeing students & parents for a fun\, interactive
 \, and educational cyber-filled day! See the link below to learn about pas
 t Cyber Saturday events.\n\nCyber Saturday features five dynamic sessions 
 exploring the world of cybersecurity\, designed for 5th–12th grade student
 s. Plus\, we offer the Cyber Elite Track\, an exclusive\, advanced cyberse
 curity strategy program tailored for high school students in grades 9–12.
 \n\nCyber Saturdays are specially designed for aspiring young cybersecurit
 y enthusiasts\, lovers of technology and computer science superstars. This
  is an immersive and educational experience into cyber space and beyond th
 at is unforgettable for students and their parents.\n\nLearn more about ou
 r Cyber Saturday events via the link below.
X-WR-RELCALID:444f8ab0f160ad8655981863c31b51a7
X-WR-TIMEZONE:America/New_York
BEGIN:VTIMEZONE
TZID:America/New_York
BEGIN:STANDARD
TZNAME:EST
DTSTART:20251102T020000
TZOFFSETFROM:-0400
TZOFFSETTO:-0500
RDATE:20261101T020000
END:STANDARD
BEGIN:DAYLIGHT
TZNAME:EDT
DTSTART:20260308T020000
TZOFFSETFROM:-0500
TZOFFSETTO:-0400
RDATE:20270314T020000
END:DAYLIGHT
END:VTIMEZONE
BEGIN:VEVENT
UID:5d358f61-f1dd-4a3b-9dfc-f7c87e45de8b
DTSTAMP:20260424T063504Z
DESCRIPTION:SAVE THE DATE for the Spring 2026 Cyber Saturday event. As alwa
 ys\, we look forward to seeing students & parents for a fun\, interactive\
 , and educational cyber-filled day! See the link below to learn about past
  Cyber Saturday events.\n\nCyber Saturday features five dynamic sessions e
 xploring the world of cybersecurity\, designed for 5th–12th grade students
 . Plus\, we offer the Cyber Elite Track\, an exclusive\, advanced cybersec
 urity strategy program tailored for high school students in grades 9–12.\n
 \nCyber Saturdays are specially designed for aspiring young cybersecurity 
 enthusiasts\, lovers of technology and computer science superstars. This i
 s an immersive and educational experience into cyber space and beyond that
  is unforgettable for students and their parents.\n\nLearn more about our 
 Cyber Saturday events via the link below.
DTSTART;TZID=America/New_York:20260502T060000
DTEND;TZID=America/New_York:20260502T060001
LOCATION:Technological Advancement Center (TAC) - TheLink 7000 Columbia Gat
 eway\, Suite 150 Columbia\, MD 21046
SUMMARY:NCF Cyber Saturday
END:VEVENT
END:VCALENDAR
