BEGIN:VCALENDAR
VERSION:2.0
PRODID:-//archive.cryptologicfoundation.org//NONSGML kigkonsult.se iCalcrea
 tor 2.30.10//
CALSCALE:GREGORIAN
METHOD:PUBLISH
UID:61e58d17-1379-42bc-81cd-ca09f865c6a3
X-WR-CALDESC:<b>Senate Honors Intelligence Professionals for Service to Nat
 ion.</b> \n\nThe US Senate is honoring the courage and sacrifice of the me
 n and women of the US intelligence community by designating July 26\, 2015
  as 'United States Intelligence Professionals Day.' US Sen. Warner (D- VA)
 \, a member of the Senate Select Committee on Intelligence\, introduced a 
 joint resolution that was unanimously approved by the Senate\, acknowledgi
 ng intelligence officers\, past and present\, for their service and profes
 sionalism in protecting the United States from those who wish to do us har
 m.\n\n'Our nation's intelligence professionals are quiet heroes who work e
 very day to keep America safe\, but we seldom hear about their successes o
 r their sacrifices\,' said Sen. Warner. 'These men and women work in silen
 ce to protect the nation and they deploy to war zones and dangerous region
 s of the world. They cannot discuss their work even with their families. B
 ut as a member of the Intelligence Committee\, I see how they keep our cou
 ntry safe every day\, and I thank them for their service to our nation.'\n
 \nThis bill comes 68 years after President Harry Truman signed the Nationa
 l Security Act of 1947\, which laid the foundation for today's intelligenc
 e community and continues to govern its activities.
X-WR-RELCALID:578bdfe4a1eaea000a7725b8d0afba13
X-WR-TIMEZONE:America/New_York
BEGIN:VTIMEZONE
TZID:America/New_York
BEGIN:STANDARD
TZNAME:EST
DTSTART:20251102T020000
TZOFFSETFROM:-0400
TZOFFSETTO:-0500
RDATE:20261101T020000
RDATE:20271107T020000
END:STANDARD
BEGIN:DAYLIGHT
TZNAME:EDT
DTSTART:20260308T020000
TZOFFSETFROM:-0500
TZOFFSETTO:-0400
RDATE:20270314T020000
END:DAYLIGHT
END:VTIMEZONE
BEGIN:VEVENT
UID:9a819d14-7fb2-4215-bd16-14415a9b7e7d
DTSTAMP:20260424T095910Z
DESCRIPTION:<b>Senate Honors Intelligence Professionals for Service to Nati
 on.</b> \n\nThe US Senate is honoring the courage and sacrifice of the men
  and women of the US intelligence community by designating July 26\, 2015 
 as 'United States Intelligence Professionals Day.' US Sen. Warner (D- VA)\
 , a member of the Senate Select Committee on Intelligence\, introduced a j
 oint resolution that was unanimously approved by the Senate\, acknowledgin
 g intelligence officers\, past and present\, for their service and profess
 ionalism in protecting the United States from those who wish to do us harm
 .\n\n'Our nation's intelligence professionals are quiet heroes who work ev
 ery day to keep America safe\, but we seldom hear about their successes or
  their sacrifices\,' said Sen. Warner. 'These men and women work in silenc
 e to protect the nation and they deploy to war zones and dangerous regions
  of the world. They cannot discuss their work even with their families. Bu
 t as a member of the Intelligence Committee\, I see how they keep our coun
 try safe every day\, and I thank them for their service to our nation.'\n
 \nThis bill comes 68 years after President Harry Truman signed the Nationa
 l Security Act of 1947\, which laid the foundation for today's intelligenc
 e community and continues to govern its activities.
DTSTART;TZID=America/New_York:20260726T000000
DTEND;TZID=America/New_York:20260726T235900
LOCATION:
SUMMARY:United States Intelligence Professionals Day
END:VEVENT
END:VCALENDAR
