BEGIN:VCALENDAR
VERSION:2.0
PRODID:-//archive.cryptologicfoundation.org//NONSGML kigkonsult.se iCalcrea
 tor 2.30.10//
CALSCALE:GREGORIAN
METHOD:PUBLISH
UID:cdaf3103-1994-4d40-a5d5-e127e78f93d7
X-WR-CALDESC:The Purple Heart is awarded to members of the armed forces of 
 the U.S. who are wounded by an instrument of war in the hands of the enemy
  and posthumously to the next of kin in the name of those who are killed i
 n action or die of wounds received in action. It is specifically a combat 
 decoration.
X-WR-RELCALID:1dd74eb9febf5672b0cfa30af8b8b101
X-WR-TIMEZONE:America/New_York
BEGIN:VTIMEZONE
TZID:America/New_York
BEGIN:STANDARD
TZNAME:EST
DTSTART:20251102T020000
TZOFFSETFROM:-0400
TZOFFSETTO:-0500
RDATE:20261101T020000
RDATE:20271107T020000
END:STANDARD
BEGIN:DAYLIGHT
TZNAME:EDT
DTSTART:20260308T020000
TZOFFSETFROM:-0500
TZOFFSETTO:-0400
RDATE:20270314T020000
END:DAYLIGHT
END:VTIMEZONE
BEGIN:VEVENT
UID:e79be71c-5e46-4cdc-907a-24d6ef211168
DTSTAMP:20260424T112516Z
DESCRIPTION:The Purple Heart is awarded to members of the armed forces of t
 he U.S. who are wounded by an instrument of war in the hands of the enemy 
 and posthumously to the next of kin in the name of those who are killed in
  action or die of wounds received in action. It is specifically a combat d
 ecoration.
DTSTART;TZID=America/New_York:20260807T000000
DTEND;TZID=America/New_York:20260807T235900
LOCATION:
SUMMARY:National Purple Heart Day
END:VEVENT
END:VCALENDAR
