BEGIN:VCALENDAR
VERSION:2.0
PRODID:-//archive.cryptologicfoundation.org//NONSGML kigkonsult.se iCalcrea
 tor 2.30.10//
CALSCALE:GREGORIAN
METHOD:PUBLISH
UID:e4abac99-22aa-4a3b-8221-ad1c6a09c661
X-WR-CALDESC:We pause on this day to remember the events of this tragic day
  in 2001. We honor the victims and survivors\, pray for their loved ones\,
  and are deeply grateful for the heroism of first responders. Learn more a
 bout the al-Qaeda Attacks in U.S. on 9/11/2001 via the link below. \n\nSep
 tember 11th is now known as 'Patriot Day' in the United States\, and is ob
 served as a National Day of Service and Remembrance of the victims of the 
 9/11 attacks. Across the U.S.\, numerous memorials and other events are he
 ld on this day to honor the loss of thousands of lives.\n\n<b>September 11
 th Memorial Exhibit at the NCM:</b> In silent tribute to the more than 3\,
 000 innocent people killed during the three separate terrorists attacks on
  11 September 2001\, a scorched 12' x 17' concrete remnant of the outer wa
 ll of the Pentagon is exhibited in the Memorial Hall area of the museum. S
 urrounding the remnant are four statements by President George W. Bush on 
 America's resolve to win the War on Terrorism. See link below.
X-WR-RELCALID:9efa4abe129636bff28a74b4d48f499a
X-WR-TIMEZONE:America/New_York
BEGIN:VTIMEZONE
TZID:America/New_York
BEGIN:STANDARD
TZNAME:EST
DTSTART:20251102T020000
TZOFFSETFROM:-0400
TZOFFSETTO:-0500
RDATE:20261101T020000
RDATE:20271107T020000
END:STANDARD
BEGIN:DAYLIGHT
TZNAME:EDT
DTSTART:20260308T020000
TZOFFSETFROM:-0500
TZOFFSETTO:-0400
RDATE:20270314T020000
RDATE:20280312T020000
END:DAYLIGHT
END:VTIMEZONE
BEGIN:VEVENT
UID:1fadf9bc-cb9e-432c-8ea2-d658789c2252
DTSTAMP:20260424T131223Z
DESCRIPTION:We pause on this day to remember the events of this tragic day 
 in 2001. We honor the victims and survivors\, pray for their loved ones\, 
 and are deeply grateful for the heroism of first responders. Learn more ab
 out the al-Qaeda Attacks in U.S. on 9/11/2001 via the link below. \n\nSept
 ember 11th is now known as 'Patriot Day' in the United States\, and is obs
 erved as a National Day of Service and Remembrance of the victims of the 9
 /11 attacks. Across the U.S.\, numerous memorials and other events are hel
 d on this day to honor the loss of thousands of lives.\n\n<b>September 11t
 h Memorial Exhibit at the NCM:</b> In silent tribute to the more than 3\,0
 00 innocent people killed during the three separate terrorists attacks on 
 11 September 2001\, a scorched 12' x 17' concrete remnant of the outer wal
 l of the Pentagon is exhibited in the Memorial Hall area of the museum. Su
 rrounding the remnant are four statements by President George W. Bush on A
 merica's resolve to win the War on Terrorism. See link below.
DTSTART;TZID=America/New_York:20260911T000000
DTEND;TZID=America/New_York:20260911T235900
LOCATION:
SUMMARY:Patriot Day
END:VEVENT
END:VCALENDAR
