BEGIN:VCALENDAR
VERSION:2.0
PRODID:-//archive.cryptologicfoundation.org//NONSGML kigkonsult.se iCalcrea
 tor 2.30.10//
CALSCALE:GREGORIAN
METHOD:PUBLISH
UID:e680affd-0c9a-46ad-9aa2-aa100db34293
X-WR-CALDESC:We wish everyone could take the opportunity to visit the beaut
 iful state of Maryland that is also home to our National Cryptologic Museu
 m. Visit soon! Maryland Day 2021 will offer a variety of in person and vir
 tual activities. Visit the website below to learn more and stay tuned to o
 ur website for news about how we will honor our home state.
X-WR-RELCALID:5f1afe75e337bc4e78f0a460d7b5e521
X-WR-TIMEZONE:America/New_York
BEGIN:VTIMEZONE
TZID:America/New_York
BEGIN:STANDARD
TZNAME:EST
DTSTART:20261101T020000
TZOFFSETFROM:-0400
TZOFFSETTO:-0500
RDATE:20271107T020000
END:STANDARD
BEGIN:DAYLIGHT
TZNAME:EDT
DTSTART:20270314T020000
TZOFFSETFROM:-0500
TZOFFSETTO:-0400
RDATE:20280312T020000
END:DAYLIGHT
END:VTIMEZONE
BEGIN:VEVENT
UID:b9d2dbc9-1be0-4c0b-a05f-c9a5ac8fad19
DTSTAMP:20260424T231512Z
DESCRIPTION:We wish everyone could take the opportunity to visit the beauti
 ful state of Maryland that is also home to our National Cryptologic Museum
 . Visit soon! Maryland Day 2021 will offer a variety of in person and virt
 ual activities. Visit the website below to learn more and stay tuned to ou
 r website for news about how we will honor our home state.
DTSTART;TZID=America/New_York:20270325T000000
DTEND;TZID=America/New_York:20270325T235900
LOCATION:
SUMMARY:Maryland Day
END:VEVENT
END:VCALENDAR
