BEGIN:VCALENDAR
VERSION:2.0
PRODID:-//archive.cryptologicfoundation.org//NONSGML kigkonsult.se iCalcrea
 tor 2.30.10//
CALSCALE:GREGORIAN
METHOD:PUBLISH
UID:92cff193-9f99-4051-8655-9617d27ce4c8
X-WR-CALDESC:Instead of cyber tips today - how about checking out some <a h
 ref='https://www.earthday.org/earth-day-tips/'>#EarthDay Tips</a> for cele
 brating\, protecting\, and preserving the Earth for generations to come! H
 appy Earth Day to all!
X-WR-RELCALID:07388165f270064b60353d8065b05b55
X-WR-TIMEZONE:America/New_York
BEGIN:VTIMEZONE
TZID:America/New_York
BEGIN:STANDARD
TZNAME:EST
DTSTART:20261101T020000
TZOFFSETFROM:-0400
TZOFFSETTO:-0500
RDATE:20271107T020000
END:STANDARD
BEGIN:DAYLIGHT
TZNAME:EDT
DTSTART:20270314T020000
TZOFFSETFROM:-0500
TZOFFSETTO:-0400
RDATE:20280312T020000
END:DAYLIGHT
END:VTIMEZONE
BEGIN:VEVENT
UID:bd8a612e-cecb-4825-9464-737b4654df62
DTSTAMP:20260425T010134Z
DESCRIPTION:Instead of cyber tips today - how about checking out some <a hr
 ef='https://www.earthday.org/earth-day-tips/'>#EarthDay Tips</a> for celeb
 rating\, protecting\, and preserving the Earth for generations to come! Ha
 ppy Earth Day to all!
DTSTART;TZID=America/New_York:20270422T000000
DTEND;TZID=America/New_York:20270422T235900
LOCATION:Planet Earth
SUMMARY:Earth Day
END:VEVENT
END:VCALENDAR
