BEGIN:VCALENDAR
VERSION:2.0
PRODID:-//archive.cryptologicfoundation.org//NONSGML kigkonsult.se iCalcrea
 tor 2.30.10//
CALSCALE:GREGORIAN
METHOD:PUBLISH
UID:e6dfa2aa-bf21-40c5-a255-69b5c8e8cc48
X-WR-CALDESC:Instead of cyber tips today - how about checking out some <a h
 ref='https://www.earthday.org/earth-day-tips/'>#EarthDay Tips</a> for cele
 brating\, protecting\, and preserving the Earth for generations to come! H
 appy Earth Day to all!
X-WR-RELCALID:90f1b1777a0bc0de9b06a935236aad21
X-WR-TIMEZONE:America/New_York
BEGIN:VTIMEZONE
TZID:America/New_York
BEGIN:STANDARD
TZNAME:EST
DTSTART:20271107T020000
TZOFFSETFROM:-0400
TZOFFSETTO:-0500
RDATE:20281105T020000
END:STANDARD
BEGIN:DAYLIGHT
TZNAME:EDT
DTSTART:20280312T020000
TZOFFSETFROM:-0500
TZOFFSETTO:-0400
RDATE:20290311T020000
END:DAYLIGHT
END:VTIMEZONE
BEGIN:VEVENT
UID:be9353cf-e32f-4b0f-b3bf-4e6c4b28dc9a
DTSTAMP:20260425T214858Z
DESCRIPTION:Instead of cyber tips today - how about checking out some <a hr
 ef='https://www.earthday.org/earth-day-tips/'>#EarthDay Tips</a> for celeb
 rating\, protecting\, and preserving the Earth for generations to come! Ha
 ppy Earth Day to all!
DTSTART;TZID=America/New_York:20280422T000000
DTEND;TZID=America/New_York:20280422T235900
LOCATION:Planet Earth
SUMMARY:Earth Day
END:VEVENT
END:VCALENDAR
