BEGIN:VCALENDAR
VERSION:2.0
PRODID:-//archive.cryptologicfoundation.org//NONSGML kigkonsult.se iCalcrea
 tor 2.30.10//
CALSCALE:GREGORIAN
METHOD:PUBLISH
UID:39913887-a4ed-49d6-8691-2d00dfa7bb46
X-WR-CALDESC:When visitors enter the National Cryptologic Museum\, one of t
 he first sections they see is the <b>Memorial Hall</b>. \n\nThe Memorial H
 all was purposely placed near the entrance to remind people that freedom i
 s not something that just happens. It comes at a price paid by those who s
 elflessly sacrificed their lives so that we may live in freedom. In that H
 all\, we recognize many cryptologists who served in silence on the land\, 
 in the sea\, and in the air. \n\nVisitors see the replica National Cryptol
 ogic Memorial with 177 names of these silent warriors who served since 195
 0. Twenty-four names are men and women who served since September 11\, 200
 1. Come to the NCM or click on the Cryptologic Memorial link below to lear
 n their stories. \n\nMay they all rest in peace with our undying\, heartfe
 lt gratitude.
X-WR-RELCALID:6d165b10628495020d7e190c896695a6
X-WR-TIMEZONE:America/New_York
BEGIN:VTIMEZONE
TZID:America/New_York
BEGIN:STANDARD
TZNAME:EST
DTSTART:20271107T020000
TZOFFSETFROM:-0400
TZOFFSETTO:-0500
RDATE:20281105T020000
RDATE:20291104T020000
END:STANDARD
BEGIN:DAYLIGHT
TZNAME:EDT
DTSTART:20280312T020000
TZOFFSETFROM:-0500
TZOFFSETTO:-0400
RDATE:20290311T020000
END:DAYLIGHT
END:VTIMEZONE
BEGIN:VEVENT
UID:560e07d6-a082-48bc-bba6-c0e4edc1d145
DTSTAMP:20260425T231821Z
DESCRIPTION:When visitors enter the National Cryptologic Museum\, one of th
 e first sections they see is the <b>Memorial Hall</b>. \n\nThe Memorial Ha
 ll was purposely placed near the entrance to remind people that freedom is
  not something that just happens. It comes at a price paid by those who se
 lflessly sacrificed their lives so that we may live in freedom. In that Ha
 ll\, we recognize many cryptologists who served in silence on the land\, i
 n the sea\, and in the air. \n\nVisitors see the replica National Cryptolo
 gic Memorial with 177 names of these silent warriors who served since 1950
 . Twenty-four names are men and women who served since September 11\, 2001
 . Come to the NCM or click on the Cryptologic Memorial link below to learn
  their stories. \n\nMay they all rest in peace with our undying\, heartfel
 t gratitude.
DTSTART;TZID=America/New_York:20280527T000000
DTEND;TZID=America/New_York:20280527T235900
LOCATION:
SUMMARY:Memorial Day Remembrance
END:VEVENT
END:VCALENDAR
