BEGIN:VCALENDAR
VERSION:2.0
PRODID:-//archive.cryptologicfoundation.org//NONSGML kigkonsult.se iCalcrea
 tor 2.30.10//
CALSCALE:GREGORIAN
METHOD:PUBLISH
UID:12a9c728-ec6d-41df-b2dd-c64985dc3f64
X-WR-CALDESC:The Purple Heart is awarded to members of the armed forces of 
 the U.S. who are wounded by an instrument of war in the hands of the enemy
  and posthumously to the next of kin in the name of those who are killed i
 n action or die of wounds received in action. It is specifically a combat 
 decoration.
X-WR-RELCALID:eaeb1aeb5b3ea40c21a00e59453e1648
X-WR-TIMEZONE:America/New_York
BEGIN:VTIMEZONE
TZID:America/New_York
BEGIN:STANDARD
TZNAME:EST
DTSTART:20271107T020000
TZOFFSETFROM:-0400
TZOFFSETTO:-0500
RDATE:20281105T020000
RDATE:20291104T020000
END:STANDARD
BEGIN:DAYLIGHT
TZNAME:EDT
DTSTART:20280312T020000
TZOFFSETFROM:-0500
TZOFFSETTO:-0400
RDATE:20290311T020000
END:DAYLIGHT
END:VTIMEZONE
BEGIN:VEVENT
UID:cb5db94b-a35d-4c7e-9ce3-3bf645c0703f
DTSTAMP:20260426T040113Z
DESCRIPTION:The Purple Heart is awarded to members of the armed forces of t
 he U.S. who are wounded by an instrument of war in the hands of the enemy 
 and posthumously to the next of kin in the name of those who are killed in
  action or die of wounds received in action. It is specifically a combat d
 ecoration.
DTSTART;TZID=America/New_York:20280807T000000
DTEND;TZID=America/New_York:20280807T235900
LOCATION:
SUMMARY:National Purple Heart Day
END:VEVENT
END:VCALENDAR
