BEGIN:VCALENDAR
VERSION:2.0
PRODID:-//archive.cryptologicfoundation.org//NONSGML kigkonsult.se iCalcrea
 tor 2.30.10//
CALSCALE:GREGORIAN
METHOD:PUBLISH
UID:66413602-e69e-4002-8f5b-aab1114259fe
X-WR-CALDESC:The 19th Cryptologic History Symposium will be held on April 3
 0-May 2\, 2025. The theme of the 2025 Symposium is <i>Engage the Past....E
 ducate the Future.</i>\n\nThe Symposium will be held in-person at the John
 s Hopkins University Applied Physics Lab Kossiakoff Center in Laurel\, Mar
 yland on Wednesday\, April 30 - Thursday - May 1\, 2025. Following the Sym
 posium\, attendees will be given an opportunity to tour the recently renov
 ated National Cryptologic Museum on Friday\, May 2\, 2025 and learn about 
 resources available through the National Cryptologic Museum Library. \n\nA
 ttendees may also consider attending the 2025 NCF General Membership Meeti
 ng/Program (GMM) which will precede the Symposium at the Kossiakoff Center
  on Tuesday\, April 29\, 2025.\n\nCCH and the NCF reserve the right to mod
 ify or cancel the Cryptologic History Symposium\, including a hybrid in-pe
 rson/virtual event\, or an all-virtual platform with a potentially abbrevi
 ated program if warranted.\n\n<b>Cost</b>\n\nStandard rate: $84/day\nStude
 nt rate: $42/day\nSpeaker (non-US govt employee): Free on the day of your 
 presentation/Standard rate for additional day\nSpeaker (US govt employee):
  Standard rate both days\n\nThe daily registration fee includes lunch plus
  morning and afternoon refreshments on April 30-May 1\, 2025. Admission to
  the National Cryptologic Museum on May 2\, 2025 is free to all attendees\
 , but no lunch or refreshments will be provided on that day.\n\n<b>Registr
 ation Method:</b> Secure online registration will be available soon via th
 is page. If you are unable to register online - please call the NCF office
  at 443-795-4498.\n\n<b>Registration Deadline:</b> April 23\, 2025 at 11:5
 9 PM EDT\nNo Walk-In registrations will be accepted. \n\n<i>Registration f
 or the NCF General Membership Meeting (GMM) on April 29\, 2025 is handled 
 separately through the NCF. See cryptologicfoundation.org/community/confer
 ences/meeting.html or click the link below for details of this additional 
 program.</i>\n\nThere is no sponsored event hotel and CCH cannot make lodg
 ing or transportation recommendations for out-of-town attendees. Lodging a
 nd transportation arrangements are the responsibility of each attendee. Qu
 estions should be directed to Melissa Mann or John Tokar at cchevents@nsa.
 gov or 301-688-2336.\n\nPlease stay tuned for a preliminary agenda and for
  the opening of registration\, which will be hosted here on the NCF websit
 e.
X-WR-RELCALID:b6bafaf8e43b8d908fed06457646844e
X-WR-TIMEZONE:America/New_York
BEGIN:VTIMEZONE
TZID:America/New_York
BEGIN:STANDARD
TZNAME:EST
DTSTART:20251102T020000
TZOFFSETFROM:-0400
TZOFFSETTO:-0500
RDATE:20261101T020000
END:STANDARD
BEGIN:DAYLIGHT
TZNAME:EDT
DTSTART:20260308T020000
TZOFFSETFROM:-0500
TZOFFSETTO:-0400
RDATE:20270314T020000
END:DAYLIGHT
END:VTIMEZONE
BEGIN:VEVENT
UID:0f608013-5eed-4ef6-af3b-93b5bcca2fc1
DTSTAMP:20260424T062346Z
DESCRIPTION:The 19th Cryptologic History Symposium will be held on April 30
 -May 2\, 2025. The theme of the 2025 Symposium is <i>Engage the Past....Ed
 ucate the Future.</i>\n\nThe Symposium will be held in-person at the Johns
  Hopkins University Applied Physics Lab Kossiakoff Center in Laurel\, Mary
 land on Wednesday\, April 30 - Thursday - May 1\, 2025. Following the Symp
 osium\, attendees will be given an opportunity to tour the recently renova
 ted National Cryptologic Museum on Friday\, May 2\, 2025 and learn about r
 esources available through the National Cryptologic Museum Library. \n\nAt
 tendees may also consider attending the 2025 NCF General Membership Meetin
 g/Program (GMM) which will precede the Symposium at the Kossiakoff Center 
 on Tuesday\, April 29\, 2025.\n\nCCH and the NCF reserve the right to modi
 fy or cancel the Cryptologic History Symposium\, including a hybrid in-per
 son/virtual event\, or an all-virtual platform with a potentially abbrevia
 ted program if warranted.\n\n<b>Cost</b>\n\nStandard rate: $84/day\nStuden
 t rate: $42/day\nSpeaker (non-US govt employee): Free on the day of your p
 resentation/Standard rate for additional day\nSpeaker (US govt employee): 
 Standard rate both days\n\nThe daily registration fee includes lunch plus 
 morning and afternoon refreshments on April 30-May 1\, 2025. Admission to 
 the National Cryptologic Museum on May 2\, 2025 is free to all attendees\,
  but no lunch or refreshments will be provided on that day.\n\n<b>Registra
 tion Method:</b> Secure online registration will be available soon via thi
 s page. If you are unable to register online - please call the NCF office 
 at 443-795-4498.\n\n<b>Registration Deadline:</b> April 23\, 2025 at 11:59
  PM EDT\nNo Walk-In registrations will be accepted. \n\n<i>Registration fo
 r the NCF General Membership Meeting (GMM) on April 29\, 2025 is handled s
 eparately through the NCF. See cryptologicfoundation.org/community/confere
 nces/meeting.html or click the link below for details of this additional p
 rogram.</i>\n\nThere is no sponsored event hotel and CCH cannot make lodgi
 ng or transportation recommendations for out-of-town attendees. Lodging an
 d transportation arrangements are the responsibility of each attendee. Que
 stions should be directed to Melissa Mann or John Tokar at cchevents@nsa.g
 ov or 301-688-2336.\n\nPlease stay tuned for a preliminary agenda and for 
 the opening of registration\, which will be hosted here on the NCF website
 .
DTSTART;TZID=America/New_York:20260430T060000
DTEND;TZID=America/New_York:20260501T060001
LOCATION:Kossiakoff Center in Laurel\, MD
SUMMARY:CCH & NCF Cryptologic History Symposium 2025
END:VEVENT
END:VCALENDAR
